BEGIN:VCALENDAR
VERSION:2.0
PRODID:-// - ECPv6.15.20//NONSGML v1.0//EN
CALSCALE:GREGORIAN
METHOD:PUBLISH
X-ORIGINAL-URL:https://terrehautefarm.com
X-WR-CALDESC:Events for 
REFRESH-INTERVAL;VALUE=DURATION:PT1H
X-Robots-Tag:noindex
X-PUBLISHED-TTL:PT1H
BEGIN:VTIMEZONE
TZID:America/New_York
BEGIN:DAYLIGHT
TZOFFSETFROM:-0500
TZOFFSETTO:-0400
TZNAME:EDT
DTSTART:20240310T070000
END:DAYLIGHT
BEGIN:STANDARD
TZOFFSETFROM:-0400
TZOFFSETTO:-0500
TZNAME:EST
DTSTART:20241103T060000
END:STANDARD
BEGIN:DAYLIGHT
TZOFFSETFROM:-0500
TZOFFSETTO:-0400
TZNAME:EDT
DTSTART:20250309T070000
END:DAYLIGHT
BEGIN:STANDARD
TZOFFSETFROM:-0400
TZOFFSETTO:-0500
TZNAME:EST
DTSTART:20251102T060000
END:STANDARD
BEGIN:DAYLIGHT
TZOFFSETFROM:-0500
TZOFFSETTO:-0400
TZNAME:EDT
DTSTART:20260308T070000
END:DAYLIGHT
BEGIN:STANDARD
TZOFFSETFROM:-0400
TZOFFSETTO:-0500
TZNAME:EST
DTSTART:20261101T060000
END:STANDARD
END:VTIMEZONE
BEGIN:VEVENT
DTSTART;TZID=America/New_York:20250420T130000
DTEND;TZID=America/New_York:20250420T143000
DTSTAMP:20260422T201725
CREATED:20250308T161036Z
LAST-MODIFIED:20250308T161043Z
UID:10000074-1745154000-1745159400@terrehautefarm.com
SUMMARY:Bunnies and Bonnets Tea - 4/20\, 1:00 pm
DESCRIPTION:Join us for a special Easter Tea with your favorite bunny….or bonnet! The menu will include homemade scones\, sweet potato muffins with ham\, coconut cupcakes and more.
URL:https://terrehautefarm.com/event/bunnies-and-bonnets-tea-4-20-100-pm/
LOCATION:Terre Haute Farm\, 2565 Huguenot Springs Rd.\, Midlothian\, VA\, United States
CATEGORIES:Afternoon Tea
ATTACH;FMTTYPE=image/jpeg:https://terrehautefarm.com/wp-content/uploads/2025/02/IMG_3969-scaled.jpeg
END:VEVENT
BEGIN:VEVENT
DTSTART;TZID=America/New_York:20250419T150000
DTEND;TZID=America/New_York:20250419T163000
DTSTAMP:20260422T201725
CREATED:20250308T155459Z
LAST-MODIFIED:20250308T155729Z
UID:10000072-1745074800-1745080200@terrehautefarm.com
SUMMARY:Bunnies and Bonnets Tea - 4/19\, 3:00 pm
DESCRIPTION:Join us for a special Easter Tea with your favorite bunny….or bonnet! The menu will include homemade scones\, sweet potato muffins with ham\, coconut cupcakes and more.
URL:https://terrehautefarm.com/event/bunnies-and-bonnets-tea-4-19-230-pm/
LOCATION:Terre Haute Farm\, 2565 Huguenot Springs Rd.\, Midlothian\, VA\, United States
CATEGORIES:Afternoon Tea
ATTACH;FMTTYPE=image/jpeg:https://terrehautefarm.com/wp-content/uploads/2025/02/IMG_3969-scaled.jpeg
END:VEVENT
BEGIN:VEVENT
DTSTART;TZID=America/New_York:20250419T143000
DTEND;TZID=America/New_York:20250419T160000
DTSTAMP:20260422T201725
CREATED:20250308T160011Z
LAST-MODIFIED:20250308T160105Z
UID:10000073-1745073000-1745078400@terrehautefarm.com
SUMMARY:Bunnies and Bonnets Tea - 4/19\, 2:30 pm
DESCRIPTION:Join us for a special Easter Tea with your favorite bunny….or bonnet! The menu will include homemade scones\, sweet potato muffins with ham\, coconut cupcakes and more.
URL:https://terrehautefarm.com/event/bunnies-and-bonnets-tea-4-19-230-pm-2/
LOCATION:Terre Haute Farm\, 2565 Huguenot Springs Rd.\, Midlothian\, VA\, United States
CATEGORIES:Afternoon Tea
ATTACH;FMTTYPE=image/jpeg:https://terrehautefarm.com/wp-content/uploads/2025/02/IMG_3969-scaled.jpeg
END:VEVENT
BEGIN:VEVENT
DTSTART;TZID=America/New_York:20250419T140000
DTEND;TZID=America/New_York:20250419T153000
DTSTAMP:20260422T201725
CREATED:20250306T014720Z
LAST-MODIFIED:20250306T014722Z
UID:10000071-1745071200-1745076600@terrehautefarm.com
SUMMARY:Bunnies and Bonnets Tea - 4/19\, 2:00 pm
DESCRIPTION:Join us for a special Easter Tea with your favorite bunny….or bonnet! The menu will include homemade scones\, sweet potato muffins with ham\, coconut cupcakes and more.
URL:https://terrehautefarm.com/event/bunnies-and-bonnets-tea-4-19-200-pm/
LOCATION:Terre Haute Farm\, 2565 Huguenot Springs Rd.\, Midlothian\, VA\, United States
CATEGORIES:Afternoon Tea
ATTACH;FMTTYPE=image/jpeg:https://terrehautefarm.com/wp-content/uploads/2025/02/IMG_3969-scaled.jpeg
END:VEVENT
BEGIN:VEVENT
DTSTART;TZID=America/New_York:20250419T133000
DTEND;TZID=America/New_York:20250419T150000
DTSTAMP:20260422T201725
CREATED:20250306T014415Z
LAST-MODIFIED:20250308T160410Z
UID:10000070-1745069400-1745074800@terrehautefarm.com
SUMMARY:Bunnies and Bonnets Tea - 4/19\, 1:30 pm
DESCRIPTION:Join us for a special Easter Tea with your favorite bunny….or bonnet! The menu will include homemade scones\, sweet potato muffins with ham\, coconut cupcakes and more.
URL:https://terrehautefarm.com/event/bunnies-and-bonnets-tea-4-19-130-pm/
LOCATION:Terre Haute Farm\, 2565 Huguenot Springs Rd.\, Midlothian\, VA\, United States
CATEGORIES:Afternoon Tea
ATTACH;FMTTYPE=image/jpeg:https://terrehautefarm.com/wp-content/uploads/2025/02/IMG_3969-scaled.jpeg
END:VEVENT
BEGIN:VEVENT
DTSTART;TZID=America/New_York:20250216T150000
DTEND;TZID=America/New_York:20250216T163000
DTSTAMP:20260422T201725
CREATED:20250106T014231Z
LAST-MODIFIED:20250214T002915Z
UID:10000066-1739718000-1739723400@terrehautefarm.com
SUMMARY:Valentine Tea - 2/16\, 3:00 pm
DESCRIPTION:Join us for a special Farmhouse Tea with your favorite Valentine!
URL:https://terrehautefarm.com/event/valentine-tea-2-16-300-pm/
LOCATION:Terre Haute Farm\, 2565 Huguenot Springs Rd.\, Midlothian\, VA\, United States
CATEGORIES:Afternoon Tea
ATTACH;FMTTYPE=image/jpeg:https://terrehautefarm.com/wp-content/uploads/2025/01/qtq80-cvElc6.jpeg
END:VEVENT
BEGIN:VEVENT
DTSTART;TZID=America/New_York:20250216T143000
DTEND;TZID=America/New_York:20250216T160000
DTSTAMP:20260422T201725
CREATED:20250106T014158Z
LAST-MODIFIED:20250214T002501Z
UID:10000065-1739716200-1739721600@terrehautefarm.com
SUMMARY:Valentine Tea - 2/16\, 2:30 pm
DESCRIPTION:Join us for a special Farmhouse Tea with your favorite Valentine!
URL:https://terrehautefarm.com/event/valentine-tea-2-16-230-pm/
LOCATION:Terre Haute Farm\, 2565 Huguenot Springs Rd.\, Midlothian\, VA\, United States
CATEGORIES:Afternoon Tea
ATTACH;FMTTYPE=image/jpeg:https://terrehautefarm.com/wp-content/uploads/2025/01/qtq80-cvElc6.jpeg
END:VEVENT
BEGIN:VEVENT
DTSTART;TZID=America/New_York:20250216T140000
DTEND;TZID=America/New_York:20250216T153000
DTSTAMP:20260422T201725
CREATED:20250106T014127Z
LAST-MODIFIED:20250214T002147Z
UID:10000064-1739714400-1739719800@terrehautefarm.com
SUMMARY:Valentine Tea - 2/16\, 2:00 pm
DESCRIPTION:Join us for a special Farmhouse Tea with your favorite Valentine!
URL:https://terrehautefarm.com/event/valentine-tea-2-16-200-pm/
LOCATION:Terre Haute Farm\, 2565 Huguenot Springs Rd.\, Midlothian\, VA\, United States
CATEGORIES:Afternoon Tea
ATTACH;FMTTYPE=image/jpeg:https://terrehautefarm.com/wp-content/uploads/2025/01/qtq80-cvElc6.jpeg
END:VEVENT
BEGIN:VEVENT
DTSTART;TZID=America/New_York:20250216T133000
DTEND;TZID=America/New_York:20250216T150000
DTSTAMP:20260422T201725
CREATED:20250106T014057Z
LAST-MODIFIED:20250214T002041Z
UID:10000063-1739712600-1739718000@terrehautefarm.com
SUMMARY:Valentine Tea - 2/16\, 1:30 pm
DESCRIPTION:Join us for a special Farmhouse Tea with your favorite Valentine!
URL:https://terrehautefarm.com/event/valentine-tea-2-16-130-pm/
LOCATION:Terre Haute Farm\, 2565 Huguenot Springs Rd.\, Midlothian\, VA\, United States
CATEGORIES:Afternoon Tea
ATTACH;FMTTYPE=image/jpeg:https://terrehautefarm.com/wp-content/uploads/2025/01/qtq80-cvElc6.jpeg
END:VEVENT
BEGIN:VEVENT
DTSTART;TZID=America/New_York:20250215T150000
DTEND;TZID=America/New_York:20250215T163000
DTSTAMP:20260422T201725
CREATED:20250106T014030Z
LAST-MODIFIED:20250211T184907Z
UID:10000062-1739631600-1739637000@terrehautefarm.com
SUMMARY:Valentine Tea - 2/15\, 3:00 pm
DESCRIPTION:Join us for a special Farmhouse Tea with your favorite Valentine!
URL:https://terrehautefarm.com/event/valentine-tea-2-15-300-pm/
LOCATION:Terre Haute Farm\, 2565 Huguenot Springs Rd.\, Midlothian\, VA\, United States
CATEGORIES:Afternoon Tea
ATTACH;FMTTYPE=image/jpeg:https://terrehautefarm.com/wp-content/uploads/2025/01/qtq80-cvElc6.jpeg
END:VEVENT
BEGIN:VEVENT
DTSTART;TZID=America/New_York:20250215T143000
DTEND;TZID=America/New_York:20250215T160000
DTSTAMP:20260422T201725
CREATED:20250106T013959Z
LAST-MODIFIED:20250211T185004Z
UID:10000061-1739629800-1739635200@terrehautefarm.com
SUMMARY:Valentine Tea - 2/15\, 2:30 pm
DESCRIPTION:Join us for a special Farmhouse Tea with your favorite Valentine!
URL:https://terrehautefarm.com/event/valentine-tea-2-15-230-pm/
LOCATION:Terre Haute Farm\, 2565 Huguenot Springs Rd.\, Midlothian\, VA\, United States
CATEGORIES:Afternoon Tea
ATTACH;FMTTYPE=image/jpeg:https://terrehautefarm.com/wp-content/uploads/2025/01/qtq80-cvElc6.jpeg
END:VEVENT
BEGIN:VEVENT
DTSTART;TZID=America/New_York:20250215T140000
DTEND;TZID=America/New_York:20250215T153000
DTSTAMP:20260422T201725
CREATED:20250106T013929Z
LAST-MODIFIED:20250211T185221Z
UID:10000060-1739628000-1739633400@terrehautefarm.com
SUMMARY:Valentine Tea - 2/15\, 2:00 pm
DESCRIPTION:Join us for a special Farmhouse Tea with your favorite Valentine!
URL:https://terrehautefarm.com/event/valentine-tea-2-15-200-pm/
LOCATION:Terre Haute Farm\, 2565 Huguenot Springs Rd.\, Midlothian\, VA\, United States
CATEGORIES:Afternoon Tea
ATTACH;FMTTYPE=image/jpeg:https://terrehautefarm.com/wp-content/uploads/2025/01/qtq80-cvElc6.jpeg
END:VEVENT
BEGIN:VEVENT
DTSTART;TZID=America/New_York:20250215T133000
DTEND;TZID=America/New_York:20250215T150000
DTSTAMP:20260422T201725
CREATED:20250106T013859Z
LAST-MODIFIED:20250211T185106Z
UID:10000059-1739626200-1739631600@terrehautefarm.com
SUMMARY:Valentine Tea - 2/15\, 1:30 pm
DESCRIPTION:Join us for a special Farmhouse Tea with your favorite Valentine!
URL:https://terrehautefarm.com/event/valentine-tea-2-15-130-pm/
LOCATION:Terre Haute Farm\, 2565 Huguenot Springs Rd.\, Midlothian\, VA\, United States
CATEGORIES:Afternoon Tea
ATTACH;FMTTYPE=image/jpeg:https://terrehautefarm.com/wp-content/uploads/2025/01/qtq80-cvElc6.jpeg
END:VEVENT
BEGIN:VEVENT
DTSTART;TZID=America/New_York:20250215T130000
DTEND;TZID=America/New_York:20250215T143000
DTSTAMP:20260422T201725
CREATED:20250106T013823Z
LAST-MODIFIED:20250106T013825Z
UID:10000058-1739624400-1739629800@terrehautefarm.com
SUMMARY:Valentine Tea - 2/15\, 1:00 pm
DESCRIPTION:Join us for a special Farmhouse Tea with your favorite Valentine!
URL:https://terrehautefarm.com/event/valentine-tea-2-15-100-pm/
LOCATION:Terre Haute Farm\, 2565 Huguenot Springs Rd.\, Midlothian\, VA\, United States
CATEGORIES:Afternoon Tea
ATTACH;FMTTYPE=image/jpeg:https://terrehautefarm.com/wp-content/uploads/2025/01/qtq80-cvElc6.jpeg
END:VEVENT
BEGIN:VEVENT
DTSTART;TZID=America/New_York:20250214T150000
DTEND;TZID=America/New_York:20250214T163000
DTSTAMP:20260422T201725
CREATED:20250106T013757Z
LAST-MODIFIED:20250211T184736Z
UID:10000057-1739545200-1739550600@terrehautefarm.com
SUMMARY:Valentine Tea - 2/14\, 3:00 pm
DESCRIPTION:Join us for a special Farmhouse Tea with your favorite Valentine!
URL:https://terrehautefarm.com/event/valentine-tea-2-14-300-pm/
LOCATION:Terre Haute Farm\, 2565 Huguenot Springs Rd.\, Midlothian\, VA\, United States
CATEGORIES:Afternoon Tea
ATTACH;FMTTYPE=image/jpeg:https://terrehautefarm.com/wp-content/uploads/2025/01/qtq80-cvElc6.jpeg
END:VEVENT
BEGIN:VEVENT
DTSTART;TZID=America/New_York:20250214T143000
DTEND;TZID=America/New_York:20250214T160000
DTSTAMP:20260422T201725
CREATED:20250106T013709Z
LAST-MODIFIED:20250211T190113Z
UID:10000056-1739543400-1739548800@terrehautefarm.com
SUMMARY:Valentine Tea - 2/14\, 2:30 pm
DESCRIPTION:Join us for a special Farmhouse Tea with your favorite Valentine!
URL:https://terrehautefarm.com/event/valentine-tea-2-14-230-pm/
LOCATION:Terre Haute Farm\, 2565 Huguenot Springs Rd.\, Midlothian\, VA\, United States
CATEGORIES:Afternoon Tea
ATTACH;FMTTYPE=image/jpeg:https://terrehautefarm.com/wp-content/uploads/2025/01/qtq80-cvElc6.jpeg
END:VEVENT
BEGIN:VEVENT
DTSTART;TZID=America/New_York:20250214T140000
DTEND;TZID=America/New_York:20250214T153000
DTSTAMP:20260422T201725
CREATED:20250106T013618Z
LAST-MODIFIED:20250211T185940Z
UID:10000055-1739541600-1739547000@terrehautefarm.com
SUMMARY:Valentine Tea - 2/14\, 2:00 pm
DESCRIPTION:Join us for a special Farmhouse Tea with your favorite Valentine!
URL:https://terrehautefarm.com/event/valentine-tea-2-14-200-pm/
LOCATION:Terre Haute Farm\, 2565 Huguenot Springs Rd.\, Midlothian\, VA\, United States
CATEGORIES:Afternoon Tea
ATTACH;FMTTYPE=image/jpeg:https://terrehautefarm.com/wp-content/uploads/2025/01/qtq80-cvElc6.jpeg
END:VEVENT
BEGIN:VEVENT
DTSTART;TZID=America/New_York:20250214T133000
DTEND;TZID=America/New_York:20250214T150000
DTSTAMP:20260422T201725
CREATED:20250106T013547Z
LAST-MODIFIED:20250106T013549Z
UID:10000054-1739539800-1739545200@terrehautefarm.com
SUMMARY:Valentine Tea - 2/14\, 1:30 pm
DESCRIPTION:Join us for a special Farmhouse Tea with your favorite Valentine!
URL:https://terrehautefarm.com/event/valentine-tea-2-14-130-pm/
LOCATION:Terre Haute Farm\, 2565 Huguenot Springs Rd.\, Midlothian\, VA\, United States
CATEGORIES:Afternoon Tea
ATTACH;FMTTYPE=image/jpeg:https://terrehautefarm.com/wp-content/uploads/2025/01/qtq80-cvElc6.jpeg
END:VEVENT
BEGIN:VEVENT
DTSTART;TZID=America/New_York:20250214T130000
DTEND;TZID=America/New_York:20250214T143000
DTSTAMP:20260422T201725
CREATED:20250106T013518Z
LAST-MODIFIED:20250106T013521Z
UID:10000053-1739538000-1739543400@terrehautefarm.com
SUMMARY:Valentine Tea - 2/14\, 1:00 pm
DESCRIPTION:Join us for a special Farmhouse Tea with your favorite Valentine!
URL:https://terrehautefarm.com/event/valentine-tea-2-14-100-pm/
LOCATION:Terre Haute Farm\, 2565 Huguenot Springs Rd.\, Midlothian\, VA\, United States
CATEGORIES:Afternoon Tea
ATTACH;FMTTYPE=image/jpeg:https://terrehautefarm.com/wp-content/uploads/2025/01/qtq80-cvElc6.jpeg
END:VEVENT
BEGIN:VEVENT
DTSTART;TZID=America/New_York:20250209T150000
DTEND;TZID=America/New_York:20250209T163000
DTSTAMP:20260422T201725
CREATED:20250106T013448Z
LAST-MODIFIED:20250207T210109Z
UID:10000052-1739113200-1739118600@terrehautefarm.com
SUMMARY:Valentine Tea - 2/9\, 3:00 pm
DESCRIPTION:Join us for a special Farmhouse Tea with your favorite Valentine!
URL:https://terrehautefarm.com/event/valentine-tea-2-9-300-pm/
LOCATION:Terre Haute Farm\, 2565 Huguenot Springs Rd.\, Midlothian\, VA\, United States
CATEGORIES:Afternoon Tea
ATTACH;FMTTYPE=image/jpeg:https://terrehautefarm.com/wp-content/uploads/2025/01/qtq80-cvElc6.jpeg
END:VEVENT
BEGIN:VEVENT
DTSTART;TZID=America/New_York:20250209T143000
DTEND;TZID=America/New_York:20250209T160000
DTSTAMP:20260422T201725
CREATED:20250207T205932Z
LAST-MODIFIED:20250207T205933Z
UID:10000067-1739111400-1739116800@terrehautefarm.com
SUMMARY:Valentine Tea - 2/9\, 2:00 pm
DESCRIPTION:Join us for a special Farmhouse Tea with your favorite Valentine!
URL:https://terrehautefarm.com/event/valentine-tea-2-9-200-pm-2/
LOCATION:Terre Haute Farm\, 2565 Huguenot Springs Rd.\, Midlothian\, VA\, United States
CATEGORIES:Afternoon Tea
ATTACH;FMTTYPE=image/jpeg:https://terrehautefarm.com/wp-content/uploads/2025/01/qtq80-cvElc6.jpeg
END:VEVENT
BEGIN:VEVENT
DTSTART;TZID=America/New_York:20250209T143000
DTEND;TZID=America/New_York:20250209T160000
DTSTAMP:20260422T201725
CREATED:20250106T013411Z
LAST-MODIFIED:20250207T205234Z
UID:10000051-1739111400-1739116800@terrehautefarm.com
SUMMARY:Valentine Tea - 2/9\, 2:30 pm
DESCRIPTION:Join us for a special Farmhouse Tea with your favorite Valentine!
URL:https://terrehautefarm.com/event/valentine-tea-2-9-230-pm/
LOCATION:Terre Haute Farm\, 2565 Huguenot Springs Rd.\, Midlothian\, VA\, United States
CATEGORIES:Afternoon Tea
ATTACH;FMTTYPE=image/jpeg:https://terrehautefarm.com/wp-content/uploads/2025/01/qtq80-cvElc6.jpeg
END:VEVENT
BEGIN:VEVENT
DTSTART;TZID=America/New_York:20250209T140000
DTEND;TZID=America/New_York:20250209T153000
DTSTAMP:20260422T201725
CREATED:20250106T013243Z
LAST-MODIFIED:20250207T210200Z
UID:10000049-1739109600-1739115000@terrehautefarm.com
SUMMARY:Valentine Tea - 2/9\, 2:00 pm
DESCRIPTION:Join us for a special Farmhouse Tea with your favorite Valentine!
URL:https://terrehautefarm.com/event/valentine-tea-2-9-200-pm/
LOCATION:Terre Haute Farm\, 2565 Huguenot Springs Rd.\, Midlothian\, VA\, United States
CATEGORIES:Afternoon Tea
ATTACH;FMTTYPE=image/jpeg:https://terrehautefarm.com/wp-content/uploads/2025/01/qtq80-cvElc6.jpeg
END:VEVENT
BEGIN:VEVENT
DTSTART;TZID=America/New_York:20250209T133000
DTEND;TZID=America/New_York:20250209T150000
DTSTAMP:20260422T201725
CREATED:20250106T013129Z
LAST-MODIFIED:20250207T210023Z
UID:10000048-1739107800-1739113200@terrehautefarm.com
SUMMARY:Valentine Tea - 2/9\, 1:30 pm
DESCRIPTION:Join us for a special Farmhouse Tea with your favorite Valentine!
URL:https://terrehautefarm.com/event/valentine-tea-2-9-130-pm/
LOCATION:Terre Haute Farm\, 2565 Huguenot Springs Rd.\, Midlothian\, VA\, United States
CATEGORIES:Afternoon Tea
ATTACH;FMTTYPE=image/jpeg:https://terrehautefarm.com/wp-content/uploads/2025/01/qtq80-cvElc6.jpeg
END:VEVENT
BEGIN:VEVENT
DTSTART;TZID=America/New_York:20250209T130000
DTEND;TZID=America/New_York:20250209T143000
DTSTAMP:20260422T201725
CREATED:20250106T013048Z
LAST-MODIFIED:20250207T205733Z
UID:10000047-1739106000-1739111400@terrehautefarm.com
SUMMARY:Valentine Tea - 2/9\, 1:00 pm
DESCRIPTION:Join us for a special Farmhouse Tea with your favorite Valentine!
URL:https://terrehautefarm.com/event/valentine-tea-2-9-100-pm/
LOCATION:Terre Haute Farm\, 2565 Huguenot Springs Rd.\, Midlothian\, VA\, United States
CATEGORIES:Afternoon Tea
ATTACH;FMTTYPE=image/jpeg:https://terrehautefarm.com/wp-content/uploads/2025/01/qtq80-cvElc6.jpeg
END:VEVENT
BEGIN:VEVENT
DTSTART;TZID=America/New_York:20250208T150000
DTEND;TZID=America/New_York:20250208T163000
DTSTAMP:20260422T201725
CREATED:20250106T013014Z
LAST-MODIFIED:20250207T205436Z
UID:10000043-1739026800-1739032200@terrehautefarm.com
SUMMARY:Valentine Tea - 2/8\, 3:00 pm
DESCRIPTION:Join us for a special Farmhouse Tea with your favorite Valentine!
URL:https://terrehautefarm.com/event/valentine-tea-2-8-300-pm/
LOCATION:Terre Haute Farm\, 2565 Huguenot Springs Rd.\, Midlothian\, VA\, United States
CATEGORIES:Afternoon Tea
ATTACH;FMTTYPE=image/jpeg:https://terrehautefarm.com/wp-content/uploads/2025/01/qtq80-cvElc6.jpeg
END:VEVENT
BEGIN:VEVENT
DTSTART;TZID=America/New_York:20250208T143000
DTEND;TZID=America/New_York:20250208T160000
DTSTAMP:20260422T201725
CREATED:20250106T012925Z
LAST-MODIFIED:20250207T210542Z
UID:10000042-1739025000-1739030400@terrehautefarm.com
SUMMARY:Valentine Tea - 2/8\, 2:30 pm
DESCRIPTION:Join us for a special Farmhouse Tea with your favorite Valentine!
URL:https://terrehautefarm.com/event/valentine-tea-2-8-230-pm/
LOCATION:Terre Haute Farm\, 2565 Huguenot Springs Rd.\, Midlothian\, VA\, United States
CATEGORIES:Afternoon Tea
ATTACH;FMTTYPE=image/jpeg:https://terrehautefarm.com/wp-content/uploads/2025/01/qtq80-cvElc6.jpeg
END:VEVENT
BEGIN:VEVENT
DTSTART;TZID=America/New_York:20250208T140000
DTEND;TZID=America/New_York:20250208T153000
DTSTAMP:20260422T201725
CREATED:20250106T012900Z
LAST-MODIFIED:20250207T205812Z
UID:10000041-1739023200-1739028600@terrehautefarm.com
SUMMARY:Valentine Tea - 2/8\, 2:00 pm
DESCRIPTION:Join us for a special Farmhouse Tea with your favorite Valentine!
URL:https://terrehautefarm.com/event/valentine-tea-2-8-200-pm/
LOCATION:Terre Haute Farm\, 2565 Huguenot Springs Rd.\, Midlothian\, VA\, United States
CATEGORIES:Afternoon Tea
ATTACH;FMTTYPE=image/jpeg:https://terrehautefarm.com/wp-content/uploads/2025/01/qtq80-cvElc6.jpeg
END:VEVENT
BEGIN:VEVENT
DTSTART;TZID=America/New_York:20250208T133000
DTEND;TZID=America/New_York:20250208T150000
DTSTAMP:20260422T201725
CREATED:20250106T012834Z
LAST-MODIFIED:20250207T210507Z
UID:10000040-1739021400-1739026800@terrehautefarm.com
SUMMARY:Valentine Tea - 2/8\, 1:30 pm
DESCRIPTION:Join us for a special Farmhouse Tea with your favorite Valentine!
URL:https://terrehautefarm.com/event/valentine-tea-2-8-130-pm/
LOCATION:Terre Haute Farm\, 2565 Huguenot Springs Rd.\, Midlothian\, VA\, United States
CATEGORIES:Afternoon Tea
END:VEVENT
BEGIN:VEVENT
DTSTART;TZID=America/New_York:20250208T130000
DTEND;TZID=America/New_York:20250208T143000
DTSTAMP:20260422T201725
CREATED:20250106T012806Z
LAST-MODIFIED:20250106T012808Z
UID:10000039-1739019600-1739025000@terrehautefarm.com
SUMMARY:Valentine Tea - 2/8\, 1:00 pm
DESCRIPTION:Join us for a special Farmhouse Tea with your favorite Valentine!
URL:https://terrehautefarm.com/event/valentine-tea-2-8-100-pm/
LOCATION:Terre Haute Farm\, 2565 Huguenot Springs Rd.\, Midlothian\, VA\, United States
CATEGORIES:Afternoon Tea
ATTACH;FMTTYPE=image/jpeg:https://terrehautefarm.com/wp-content/uploads/2025/01/qtq80-cvElc6.jpeg
END:VEVENT
END:VCALENDAR