BEGIN:VCALENDAR
VERSION:2.0
PRODID:-// - ECPv6.15.20//NONSGML v1.0//EN
CALSCALE:GREGORIAN
METHOD:PUBLISH
X-ORIGINAL-URL:https://terrehautefarm.com
X-WR-CALDESC:Events for 
REFRESH-INTERVAL;VALUE=DURATION:PT1H
X-Robots-Tag:noindex
X-PUBLISHED-TTL:PT1H
BEGIN:VTIMEZONE
TZID:America/New_York
BEGIN:DAYLIGHT
TZOFFSETFROM:-0500
TZOFFSETTO:-0400
TZNAME:EDT
DTSTART:20240310T070000
END:DAYLIGHT
BEGIN:STANDARD
TZOFFSETFROM:-0400
TZOFFSETTO:-0500
TZNAME:EST
DTSTART:20241103T060000
END:STANDARD
BEGIN:DAYLIGHT
TZOFFSETFROM:-0500
TZOFFSETTO:-0400
TZNAME:EDT
DTSTART:20250309T070000
END:DAYLIGHT
BEGIN:STANDARD
TZOFFSETFROM:-0400
TZOFFSETTO:-0500
TZNAME:EST
DTSTART:20251102T060000
END:STANDARD
BEGIN:DAYLIGHT
TZOFFSETFROM:-0500
TZOFFSETTO:-0400
TZNAME:EDT
DTSTART:20260308T070000
END:DAYLIGHT
BEGIN:STANDARD
TZOFFSETFROM:-0400
TZOFFSETTO:-0500
TZNAME:EST
DTSTART:20261101T060000
END:STANDARD
END:VTIMEZONE
BEGIN:VEVENT
DTSTART;TZID=America/New_York:20251011T130000
DTEND;TZID=America/New_York:20251011T143000
DTSTAMP:20260422T223742
CREATED:20250901T151408Z
LAST-MODIFIED:20250901T152054Z
UID:10000095-1760187600-1760193000@terrehautefarm.com
SUMMARY:Autumn Harvest Tea- 10/11\, 1:00 pm
DESCRIPTION:Join us for a special Autumn Tea featuring your favorite seasonal delights!
URL:https://terrehautefarm.com/event/autumn-harvest-tea-10-11-100-pm/
LOCATION:Terre Haute Farm\, 2565 Huguenot Springs Rd.\, Midlothian\, VA\, United States
CATEGORIES:Afternoon Tea
END:VEVENT
BEGIN:VEVENT
DTSTART;TZID=America/New_York:20251010T150000
DTEND;TZID=America/New_York:20251010T163000
DTSTAMP:20260422T223742
CREATED:20250901T150951Z
LAST-MODIFIED:20250901T151139Z
UID:10000094-1760108400-1760113800@terrehautefarm.com
SUMMARY:Autumn Harvest Tea- 10/10\, 3:00 pm
DESCRIPTION:Join us for a special Autumn Tea featuring your favorite seasonal delights!
URL:https://terrehautefarm.com/event/autumn-harvest-tea-10-10-300-pm/
LOCATION:Terre Haute Farm\, 2565 Huguenot Springs Rd.\, Midlothian\, VA\, United States
CATEGORIES:Afternoon Tea
END:VEVENT
BEGIN:VEVENT
DTSTART;TZID=America/New_York:20251010T143000
DTEND;TZID=America/New_York:20251010T160000
DTSTAMP:20260422T223742
CREATED:20250901T150204Z
LAST-MODIFIED:20250901T150518Z
UID:10000093-1760106600-1760112000@terrehautefarm.com
SUMMARY:Autumn Harvest Tea- 10/10\, 2:30 pm
DESCRIPTION:Join us for a special Autumn Tea featuring your favorite seasonal delights!
URL:https://terrehautefarm.com/event/autumn-harvest-tea-10-10-200-pm-2/
LOCATION:Terre Haute Farm\, 2565 Huguenot Springs Rd.\, Midlothian\, VA\, United States
CATEGORIES:Afternoon Tea
END:VEVENT
BEGIN:VEVENT
DTSTART;TZID=America/New_York:20251010T140000
DTEND;TZID=America/New_York:20251010T153000
DTSTAMP:20260422T223742
CREATED:20250901T145707Z
LAST-MODIFIED:20250901T150403Z
UID:10000092-1760104800-1760110200@terrehautefarm.com
SUMMARY:Autumn Harvest Tea- 10/10\, 2:00 pm
DESCRIPTION:Join us for a special Autumn Tea featuring your favorite seasonal delights!
URL:https://terrehautefarm.com/event/autumn-harvest-tea-10-10-200-pm/
LOCATION:Terre Haute Farm\, 2565 Huguenot Springs Rd.\, Midlothian\, VA\, United States
CATEGORIES:Afternoon Tea
END:VEVENT
BEGIN:VEVENT
DTSTART;TZID=America/New_York:20251010T133000
DTEND;TZID=America/New_York:20251010T150000
DTSTAMP:20260422T223742
CREATED:20250901T145447Z
LAST-MODIFIED:20250901T152318Z
UID:10000091-1760103000-1760108400@terrehautefarm.com
SUMMARY:Autumn Harvest Tea- 10/10\, 1:30 pm
DESCRIPTION:Join us for a special Autumn Tea featuring your favorite seasonal delights!
URL:https://terrehautefarm.com/event/autumn-harvest-tea-10-10-130-pm/
LOCATION:Terre Haute Farm\, 2565 Huguenot Springs Rd.\, Midlothian\, VA\, United States
CATEGORIES:Afternoon Tea
END:VEVENT
BEGIN:VEVENT
DTSTART;TZID=America/New_York:20251010T130000
DTEND;TZID=America/New_York:20251010T143000
DTSTAMP:20260422T223742
CREATED:20251007T153928Z
LAST-MODIFIED:20251007T153930Z
UID:10000120-1760101200-1760106600@terrehautefarm.com
SUMMARY:Autumn Harvest Tea- 10/10\, 1:00 pm
DESCRIPTION:Join us for a special Autumn Tea featuring your favorite seasonal delights!
URL:https://terrehautefarm.com/event/autumn-harvest-tea-10-10-100-pm/
LOCATION:Terre Haute Farm\, 2565 Huguenot Springs Rd.\, Midlothian\, VA\, United States
CATEGORIES:Afternoon Tea
END:VEVENT
BEGIN:VEVENT
DTSTART;TZID=America/New_York:20250426T150000
DTEND;TZID=America/New_York:20250426T163000
DTSTAMP:20260422T223742
CREATED:20250308T164924Z
LAST-MODIFIED:20250308T165302Z
UID:10000088-1745679600-1745685000@terrehautefarm.com
SUMMARY:Bunnies and Bonnets Tea - 4/26\, 3:00 pm
DESCRIPTION:Join us for a special Easter Tea with your favorite bunny….or bonnet! The menu will include homemade scones\, sweet potato muffins with ham\, coconut cupcakes and more.
URL:https://terrehautefarm.com/event/bunnies-and-bonnets-tea-4-26-230-pm/
LOCATION:Terre Haute Farm\, 2565 Huguenot Springs Rd.\, Midlothian\, VA\, United States
CATEGORIES:Afternoon Tea
ATTACH;FMTTYPE=image/jpeg:https://terrehautefarm.com/wp-content/uploads/2025/02/IMG_3969-scaled.jpeg
END:VEVENT
BEGIN:VEVENT
DTSTART;TZID=America/New_York:20250426T143000
DTEND;TZID=America/New_York:20250426T160000
DTSTAMP:20260422T223742
CREATED:20250308T165419Z
LAST-MODIFIED:20250308T165422Z
UID:10000089-1745677800-1745683200@terrehautefarm.com
SUMMARY:Bunnies and Bonnets Tea - 4/26\, 2:30 pm
DESCRIPTION:Join us for a special Easter Tea with your favorite bunny….or bonnet! The menu will include homemade scones\, sweet potato muffins with ham\, coconut cupcakes and more.
URL:https://terrehautefarm.com/event/bunnies-and-bonnets-tea-4-26-230-pm-2/
LOCATION:Terre Haute Farm\, 2565 Huguenot Springs Rd.\, Midlothian\, VA\, United States
CATEGORIES:Afternoon Tea
ATTACH;FMTTYPE=image/jpeg:https://terrehautefarm.com/wp-content/uploads/2025/02/IMG_3969-scaled.jpeg
END:VEVENT
BEGIN:VEVENT
DTSTART;TZID=America/New_York:20250426T140000
DTEND;TZID=America/New_York:20250426T153000
DTSTAMP:20260422T223742
CREATED:20250308T164803Z
LAST-MODIFIED:20250308T164807Z
UID:10000087-1745676000-1745681400@terrehautefarm.com
SUMMARY:Bunnies and Bonnets Tea - 4/26\, 2:00 pm
DESCRIPTION:Join us for a special Easter Tea with your favorite bunny….or bonnet! The menu will include homemade scones\, sweet potato muffins with ham\, coconut cupcakes and more.
URL:https://terrehautefarm.com/event/bunnies-and-bonnets-tea-4-26-200-pm/
LOCATION:Terre Haute Farm\, 2565 Huguenot Springs Rd.\, Midlothian\, VA\, United States
CATEGORIES:Afternoon Tea
ATTACH;FMTTYPE=image/jpeg:https://terrehautefarm.com/wp-content/uploads/2025/02/IMG_3969-scaled.jpeg
END:VEVENT
BEGIN:VEVENT
DTSTART;TZID=America/New_York:20250426T133000
DTEND;TZID=America/New_York:20250426T150000
DTSTAMP:20260422T223742
CREATED:20250308T164614Z
LAST-MODIFIED:20250308T164620Z
UID:10000086-1745674200-1745679600@terrehautefarm.com
SUMMARY:Bunnies and Bonnets Tea - 4/26\, 1:30 pm
DESCRIPTION:Join us for a special Easter Tea with your favorite bunny….or bonnet! The menu will include homemade scones\, sweet potato muffins with ham\, coconut cupcakes and more.
URL:https://terrehautefarm.com/event/bunnies-and-bonnets-tea-4-26-130-pm/
LOCATION:Terre Haute Farm\, 2565 Huguenot Springs Rd.\, Midlothian\, VA\, United States
CATEGORIES:Afternoon Tea
ATTACH;FMTTYPE=image/jpeg:https://terrehautefarm.com/wp-content/uploads/2025/02/IMG_3969-scaled.jpeg
END:VEVENT
BEGIN:VEVENT
DTSTART;TZID=America/New_York:20250426T130000
DTEND;TZID=America/New_York:20250426T143000
DTSTAMP:20260422T223742
CREATED:20250308T164401Z
LAST-MODIFIED:20250308T164408Z
UID:10000085-1745672400-1745677800@terrehautefarm.com
SUMMARY:Bunnies and Bonnets Tea - 4/26\, 1:00 pm
DESCRIPTION:Join us for a special Easter Tea with your favorite bunny….or bonnet! The menu will include homemade scones\, sweet potato muffins with ham\, coconut cupcakes and more.
URL:https://terrehautefarm.com/event/bunnies-and-bonnets-tea-4-26-100-pm/
LOCATION:Terre Haute Farm\, 2565 Huguenot Springs Rd.\, Midlothian\, VA\, United States
CATEGORIES:Afternoon Tea
ATTACH;FMTTYPE=image/jpeg:https://terrehautefarm.com/wp-content/uploads/2025/02/IMG_3969-scaled.jpeg
END:VEVENT
BEGIN:VEVENT
DTSTART;TZID=America/New_York:20250421T150000
DTEND;TZID=America/New_York:20250421T163000
DTSTAMP:20260422T223742
CREATED:20250308T163025Z
LAST-MODIFIED:20250308T163031Z
UID:10000083-1745247600-1745253000@terrehautefarm.com
SUMMARY:Bunnies and Bonnets Tea - 4/21\, 3:00 pm
DESCRIPTION:Join us for a special Easter Tea with your favorite bunny….or bonnet! The menu will include homemade scones\, sweet potato muffins with ham\, coconut cupcakes and more.
URL:https://terrehautefarm.com/event/bunnies-and-bonnets-tea-4-21-300-pm/
LOCATION:Terre Haute Farm\, 2565 Huguenot Springs Rd.\, Midlothian\, VA\, United States
CATEGORIES:Afternoon Tea
ATTACH;FMTTYPE=image/jpeg:https://terrehautefarm.com/wp-content/uploads/2025/02/IMG_3969-scaled.jpeg
END:VEVENT
BEGIN:VEVENT
DTSTART;TZID=America/New_York:20250421T143000
DTEND;TZID=America/New_York:20250421T160000
DTSTAMP:20260422T223742
CREATED:20250308T162907Z
LAST-MODIFIED:20250308T162914Z
UID:10000082-1745245800-1745251200@terrehautefarm.com
SUMMARY:Bunnies and Bonnets Tea - 4/21\, 2:30 pm
DESCRIPTION:Join us for a special Easter Tea with your favorite bunny….or bonnet! The menu will include homemade scones\, sweet potato muffins with ham\, coconut cupcakes and more.
URL:https://terrehautefarm.com/event/bunnies-and-bonnets-tea-4-21-230-pm/
LOCATION:Terre Haute Farm\, 2565 Huguenot Springs Rd.\, Midlothian\, VA\, United States
CATEGORIES:Afternoon Tea
ATTACH;FMTTYPE=image/jpeg:https://terrehautefarm.com/wp-content/uploads/2025/02/IMG_3969-scaled.jpeg
END:VEVENT
BEGIN:VEVENT
DTSTART;TZID=America/New_York:20250421T140000
DTEND;TZID=America/New_York:20250421T153000
DTSTAMP:20260422T223742
CREATED:20250308T162620Z
LAST-MODIFIED:20250308T162626Z
UID:10000081-1745244000-1745249400@terrehautefarm.com
SUMMARY:Bunnies and Bonnets Tea - 4/21\, 2:00 pm
DESCRIPTION:Join us for a special Easter Tea with your favorite bunny….or bonnet! The menu will include homemade scones\, sweet potato muffins with ham\, coconut cupcakes and more.
URL:https://terrehautefarm.com/event/bunnies-and-bonnets-tea-4-21-200-pm/
LOCATION:Terre Haute Farm\, 2565 Huguenot Springs Rd.\, Midlothian\, VA\, United States
CATEGORIES:Afternoon Tea
ATTACH;FMTTYPE=image/jpeg:https://terrehautefarm.com/wp-content/uploads/2025/02/IMG_3969-scaled.jpeg
END:VEVENT
BEGIN:VEVENT
DTSTART;TZID=America/New_York:20250421T133000
DTEND;TZID=America/New_York:20250421T150000
DTSTAMP:20260422T223742
CREATED:20250308T162321Z
LAST-MODIFIED:20250308T162328Z
UID:10000080-1745242200-1745247600@terrehautefarm.com
SUMMARY:Bunnies and Bonnets Tea - 4/21\, 1:30 pm
DESCRIPTION:Join us for a special Easter Tea with your favorite bunny….or bonnet! The menu will include homemade scones\, sweet potato muffins with ham\, coconut cupcakes and more.
URL:https://terrehautefarm.com/event/bunnies-and-bonnets-tea-4-21-130-pm/
LOCATION:Terre Haute Farm\, 2565 Huguenot Springs Rd.\, Midlothian\, VA\, United States
CATEGORIES:Afternoon Tea
ATTACH;FMTTYPE=image/jpeg:https://terrehautefarm.com/wp-content/uploads/2025/02/IMG_3969-scaled.jpeg
END:VEVENT
BEGIN:VEVENT
DTSTART;TZID=America/New_York:20250421T130000
DTEND;TZID=America/New_York:20250421T143000
DTSTAMP:20260422T223742
CREATED:20250308T162116Z
LAST-MODIFIED:20250308T162122Z
UID:10000079-1745240400-1745245800@terrehautefarm.com
SUMMARY:Bunnies and Bonnets Tea - 4/21\, 1:00 pm
DESCRIPTION:Join us for a special Easter Tea with your favorite bunny….or bonnet! The menu will include homemade scones\, sweet potato muffins with ham\, coconut cupcakes and more.
URL:https://terrehautefarm.com/event/bunnies-and-bonnets-tea-4-21-100-pm/
LOCATION:Terre Haute Farm\, 2565 Huguenot Springs Rd.\, Midlothian\, VA\, United States
CATEGORIES:Afternoon Tea
ATTACH;FMTTYPE=image/jpeg:https://terrehautefarm.com/wp-content/uploads/2025/02/IMG_3969-scaled.jpeg
END:VEVENT
BEGIN:VEVENT
DTSTART;TZID=America/New_York:20250420T150000
DTEND;TZID=America/New_York:20250420T163000
DTSTAMP:20260422T223742
CREATED:20250308T161917Z
LAST-MODIFIED:20250308T161924Z
UID:10000078-1745161200-1745166600@terrehautefarm.com
SUMMARY:Bunnies and Bonnets Tea - 4/20\, 3:00 pm
DESCRIPTION:Join us for a special Easter Tea with your favorite bunny….or bonnet! The menu will include homemade scones\, sweet potato muffins with ham\, coconut cupcakes and more.
URL:https://terrehautefarm.com/event/bunnies-and-bonnets-tea-4-20-300-pm/
LOCATION:Terre Haute Farm\, 2565 Huguenot Springs Rd.\, Midlothian\, VA\, United States
CATEGORIES:Afternoon Tea
ATTACH;FMTTYPE=image/jpeg:https://terrehautefarm.com/wp-content/uploads/2025/02/IMG_3969-scaled.jpeg
END:VEVENT
BEGIN:VEVENT
DTSTART;TZID=America/New_York:20250420T143000
DTEND;TZID=America/New_York:20250420T160000
DTSTAMP:20260422T223742
CREATED:20250308T161714Z
LAST-MODIFIED:20250308T161721Z
UID:10000077-1745159400-1745164800@terrehautefarm.com
SUMMARY:Bunnies and Bonnets Tea - 4/20\, 2:00 pm
DESCRIPTION:Join us for a special Easter Tea with your favorite bunny….or bonnet! The menu will include homemade scones\, sweet potato muffins with ham\, coconut cupcakes and more.
URL:https://terrehautefarm.com/event/bunnies-and-bonnets-tea-4-20-200-pm-2/
LOCATION:Terre Haute Farm\, 2565 Huguenot Springs Rd.\, Midlothian\, VA\, United States
CATEGORIES:Afternoon Tea
ATTACH;FMTTYPE=image/jpeg:https://terrehautefarm.com/wp-content/uploads/2025/02/IMG_3969-scaled.jpeg
END:VEVENT
BEGIN:VEVENT
DTSTART;TZID=America/New_York:20250420T140000
DTEND;TZID=America/New_York:20250420T153000
DTSTAMP:20260422T223742
CREATED:20250308T161513Z
LAST-MODIFIED:20250308T161518Z
UID:10000076-1745157600-1745163000@terrehautefarm.com
SUMMARY:Bunnies and Bonnets Tea - 4/20\, 2:00 pm
DESCRIPTION:Join us for a special Easter Tea with your favorite bunny….or bonnet! The menu will include homemade scones\, sweet potato muffins with ham\, coconut cupcakes and more.
URL:https://terrehautefarm.com/event/bunnies-and-bonnets-tea-4-20-200-pm/
LOCATION:Terre Haute Farm\, 2565 Huguenot Springs Rd.\, Midlothian\, VA\, United States
CATEGORIES:Afternoon Tea
ATTACH;FMTTYPE=image/jpeg:https://terrehautefarm.com/wp-content/uploads/2025/02/IMG_3969-scaled.jpeg
END:VEVENT
BEGIN:VEVENT
DTSTART;TZID=America/New_York:20250420T133000
DTEND;TZID=America/New_York:20250420T150000
DTSTAMP:20260422T223742
CREATED:20250308T161327Z
LAST-MODIFIED:20250308T161333Z
UID:10000075-1745155800-1745161200@terrehautefarm.com
SUMMARY:Bunnies and Bonnets Tea - 4/20\, 1:30 pm
DESCRIPTION:Join us for a special Easter Tea with your favorite bunny….or bonnet! The menu will include homemade scones\, sweet potato muffins with ham\, coconut cupcakes and more.
URL:https://terrehautefarm.com/event/bunnies-and-bonnets-tea-4-20-130-pm/
LOCATION:Terre Haute Farm\, 2565 Huguenot Springs Rd.\, Midlothian\, VA\, United States
CATEGORIES:Afternoon Tea
ATTACH;FMTTYPE=image/jpeg:https://terrehautefarm.com/wp-content/uploads/2025/02/IMG_3969-scaled.jpeg
END:VEVENT
BEGIN:VEVENT
DTSTART;TZID=America/New_York:20250420T130000
DTEND;TZID=America/New_York:20250420T143000
DTSTAMP:20260422T223742
CREATED:20250308T161036Z
LAST-MODIFIED:20250308T161043Z
UID:10000074-1745154000-1745159400@terrehautefarm.com
SUMMARY:Bunnies and Bonnets Tea - 4/20\, 1:00 pm
DESCRIPTION:Join us for a special Easter Tea with your favorite bunny….or bonnet! The menu will include homemade scones\, sweet potato muffins with ham\, coconut cupcakes and more.
URL:https://terrehautefarm.com/event/bunnies-and-bonnets-tea-4-20-100-pm/
LOCATION:Terre Haute Farm\, 2565 Huguenot Springs Rd.\, Midlothian\, VA\, United States
CATEGORIES:Afternoon Tea
ATTACH;FMTTYPE=image/jpeg:https://terrehautefarm.com/wp-content/uploads/2025/02/IMG_3969-scaled.jpeg
END:VEVENT
BEGIN:VEVENT
DTSTART;TZID=America/New_York:20250419T150000
DTEND;TZID=America/New_York:20250419T163000
DTSTAMP:20260422T223742
CREATED:20250308T155459Z
LAST-MODIFIED:20250308T155729Z
UID:10000072-1745074800-1745080200@terrehautefarm.com
SUMMARY:Bunnies and Bonnets Tea - 4/19\, 3:00 pm
DESCRIPTION:Join us for a special Easter Tea with your favorite bunny….or bonnet! The menu will include homemade scones\, sweet potato muffins with ham\, coconut cupcakes and more.
URL:https://terrehautefarm.com/event/bunnies-and-bonnets-tea-4-19-230-pm/
LOCATION:Terre Haute Farm\, 2565 Huguenot Springs Rd.\, Midlothian\, VA\, United States
CATEGORIES:Afternoon Tea
ATTACH;FMTTYPE=image/jpeg:https://terrehautefarm.com/wp-content/uploads/2025/02/IMG_3969-scaled.jpeg
END:VEVENT
BEGIN:VEVENT
DTSTART;TZID=America/New_York:20250419T143000
DTEND;TZID=America/New_York:20250419T160000
DTSTAMP:20260422T223742
CREATED:20250308T160011Z
LAST-MODIFIED:20250308T160105Z
UID:10000073-1745073000-1745078400@terrehautefarm.com
SUMMARY:Bunnies and Bonnets Tea - 4/19\, 2:30 pm
DESCRIPTION:Join us for a special Easter Tea with your favorite bunny….or bonnet! The menu will include homemade scones\, sweet potato muffins with ham\, coconut cupcakes and more.
URL:https://terrehautefarm.com/event/bunnies-and-bonnets-tea-4-19-230-pm-2/
LOCATION:Terre Haute Farm\, 2565 Huguenot Springs Rd.\, Midlothian\, VA\, United States
CATEGORIES:Afternoon Tea
ATTACH;FMTTYPE=image/jpeg:https://terrehautefarm.com/wp-content/uploads/2025/02/IMG_3969-scaled.jpeg
END:VEVENT
BEGIN:VEVENT
DTSTART;TZID=America/New_York:20250419T140000
DTEND;TZID=America/New_York:20250419T153000
DTSTAMP:20260422T223742
CREATED:20250306T014720Z
LAST-MODIFIED:20250306T014722Z
UID:10000071-1745071200-1745076600@terrehautefarm.com
SUMMARY:Bunnies and Bonnets Tea - 4/19\, 2:00 pm
DESCRIPTION:Join us for a special Easter Tea with your favorite bunny….or bonnet! The menu will include homemade scones\, sweet potato muffins with ham\, coconut cupcakes and more.
URL:https://terrehautefarm.com/event/bunnies-and-bonnets-tea-4-19-200-pm/
LOCATION:Terre Haute Farm\, 2565 Huguenot Springs Rd.\, Midlothian\, VA\, United States
CATEGORIES:Afternoon Tea
ATTACH;FMTTYPE=image/jpeg:https://terrehautefarm.com/wp-content/uploads/2025/02/IMG_3969-scaled.jpeg
END:VEVENT
BEGIN:VEVENT
DTSTART;TZID=America/New_York:20250419T133000
DTEND;TZID=America/New_York:20250419T150000
DTSTAMP:20260422T223742
CREATED:20250306T014415Z
LAST-MODIFIED:20250308T160410Z
UID:10000070-1745069400-1745074800@terrehautefarm.com
SUMMARY:Bunnies and Bonnets Tea - 4/19\, 1:30 pm
DESCRIPTION:Join us for a special Easter Tea with your favorite bunny….or bonnet! The menu will include homemade scones\, sweet potato muffins with ham\, coconut cupcakes and more.
URL:https://terrehautefarm.com/event/bunnies-and-bonnets-tea-4-19-130-pm/
LOCATION:Terre Haute Farm\, 2565 Huguenot Springs Rd.\, Midlothian\, VA\, United States
CATEGORIES:Afternoon Tea
ATTACH;FMTTYPE=image/jpeg:https://terrehautefarm.com/wp-content/uploads/2025/02/IMG_3969-scaled.jpeg
END:VEVENT
BEGIN:VEVENT
DTSTART;TZID=America/New_York:20250216T150000
DTEND;TZID=America/New_York:20250216T163000
DTSTAMP:20260422T223742
CREATED:20250106T014231Z
LAST-MODIFIED:20250214T002915Z
UID:10000066-1739718000-1739723400@terrehautefarm.com
SUMMARY:Valentine Tea - 2/16\, 3:00 pm
DESCRIPTION:Join us for a special Farmhouse Tea with your favorite Valentine!
URL:https://terrehautefarm.com/event/valentine-tea-2-16-300-pm/
LOCATION:Terre Haute Farm\, 2565 Huguenot Springs Rd.\, Midlothian\, VA\, United States
CATEGORIES:Afternoon Tea
ATTACH;FMTTYPE=image/jpeg:https://terrehautefarm.com/wp-content/uploads/2025/01/qtq80-cvElc6.jpeg
END:VEVENT
BEGIN:VEVENT
DTSTART;TZID=America/New_York:20250216T143000
DTEND;TZID=America/New_York:20250216T160000
DTSTAMP:20260422T223742
CREATED:20250106T014158Z
LAST-MODIFIED:20250214T002501Z
UID:10000065-1739716200-1739721600@terrehautefarm.com
SUMMARY:Valentine Tea - 2/16\, 2:30 pm
DESCRIPTION:Join us for a special Farmhouse Tea with your favorite Valentine!
URL:https://terrehautefarm.com/event/valentine-tea-2-16-230-pm/
LOCATION:Terre Haute Farm\, 2565 Huguenot Springs Rd.\, Midlothian\, VA\, United States
CATEGORIES:Afternoon Tea
ATTACH;FMTTYPE=image/jpeg:https://terrehautefarm.com/wp-content/uploads/2025/01/qtq80-cvElc6.jpeg
END:VEVENT
BEGIN:VEVENT
DTSTART;TZID=America/New_York:20250216T140000
DTEND;TZID=America/New_York:20250216T153000
DTSTAMP:20260422T223742
CREATED:20250106T014127Z
LAST-MODIFIED:20250214T002147Z
UID:10000064-1739714400-1739719800@terrehautefarm.com
SUMMARY:Valentine Tea - 2/16\, 2:00 pm
DESCRIPTION:Join us for a special Farmhouse Tea with your favorite Valentine!
URL:https://terrehautefarm.com/event/valentine-tea-2-16-200-pm/
LOCATION:Terre Haute Farm\, 2565 Huguenot Springs Rd.\, Midlothian\, VA\, United States
CATEGORIES:Afternoon Tea
ATTACH;FMTTYPE=image/jpeg:https://terrehautefarm.com/wp-content/uploads/2025/01/qtq80-cvElc6.jpeg
END:VEVENT
BEGIN:VEVENT
DTSTART;TZID=America/New_York:20250216T133000
DTEND;TZID=America/New_York:20250216T150000
DTSTAMP:20260422T223742
CREATED:20250106T014057Z
LAST-MODIFIED:20250214T002041Z
UID:10000063-1739712600-1739718000@terrehautefarm.com
SUMMARY:Valentine Tea - 2/16\, 1:30 pm
DESCRIPTION:Join us for a special Farmhouse Tea with your favorite Valentine!
URL:https://terrehautefarm.com/event/valentine-tea-2-16-130-pm/
LOCATION:Terre Haute Farm\, 2565 Huguenot Springs Rd.\, Midlothian\, VA\, United States
CATEGORIES:Afternoon Tea
ATTACH;FMTTYPE=image/jpeg:https://terrehautefarm.com/wp-content/uploads/2025/01/qtq80-cvElc6.jpeg
END:VEVENT
BEGIN:VEVENT
DTSTART;TZID=America/New_York:20250215T150000
DTEND;TZID=America/New_York:20250215T163000
DTSTAMP:20260422T223742
CREATED:20250106T014030Z
LAST-MODIFIED:20250211T184907Z
UID:10000062-1739631600-1739637000@terrehautefarm.com
SUMMARY:Valentine Tea - 2/15\, 3:00 pm
DESCRIPTION:Join us for a special Farmhouse Tea with your favorite Valentine!
URL:https://terrehautefarm.com/event/valentine-tea-2-15-300-pm/
LOCATION:Terre Haute Farm\, 2565 Huguenot Springs Rd.\, Midlothian\, VA\, United States
CATEGORIES:Afternoon Tea
ATTACH;FMTTYPE=image/jpeg:https://terrehautefarm.com/wp-content/uploads/2025/01/qtq80-cvElc6.jpeg
END:VEVENT
END:VCALENDAR