BEGIN:VCALENDAR
VERSION:2.0
PRODID:-// - ECPv6.15.20//NONSGML v1.0//EN
CALSCALE:GREGORIAN
METHOD:PUBLISH
X-ORIGINAL-URL:https://terrehautefarm.com
X-WR-CALDESC:Events for 
REFRESH-INTERVAL;VALUE=DURATION:PT1H
X-Robots-Tag:noindex
X-PUBLISHED-TTL:PT1H
BEGIN:VTIMEZONE
TZID:America/New_York
BEGIN:DAYLIGHT
TZOFFSETFROM:-0500
TZOFFSETTO:-0400
TZNAME:EDT
DTSTART:20250309T070000
END:DAYLIGHT
BEGIN:STANDARD
TZOFFSETFROM:-0400
TZOFFSETTO:-0500
TZNAME:EST
DTSTART:20251102T060000
END:STANDARD
BEGIN:DAYLIGHT
TZOFFSETFROM:-0500
TZOFFSETTO:-0400
TZNAME:EDT
DTSTART:20260308T070000
END:DAYLIGHT
BEGIN:STANDARD
TZOFFSETFROM:-0400
TZOFFSETTO:-0500
TZNAME:EST
DTSTART:20261101T060000
END:STANDARD
BEGIN:DAYLIGHT
TZOFFSETFROM:-0500
TZOFFSETTO:-0400
TZNAME:EDT
DTSTART:20270314T070000
END:DAYLIGHT
BEGIN:STANDARD
TZOFFSETFROM:-0400
TZOFFSETTO:-0500
TZNAME:EST
DTSTART:20271107T060000
END:STANDARD
END:VTIMEZONE
BEGIN:VEVENT
DTSTART;TZID=America/New_York:20260207T130000
DTEND;TZID=America/New_York:20260207T143000
DTSTAMP:20260422T184441
CREATED:20260108T171536Z
LAST-MODIFIED:20260111T212442Z
UID:10000149-1770469200-1770474600@terrehautefarm.com
SUMMARY:Valentine's Day Tea - 2/7\, 2026 1 pm
DESCRIPTION:Join us for a special Valentine’s Day Tea featuring our sweet and savory delights!
URL:https://terrehautefarm.com/event/valentines-day-tea-2-7-1-pm/
LOCATION:Terre Haute Farm\, 2565 Huguenot Springs Rd.\, Midlothian\, VA\, United States
CATEGORIES:Afternoon Tea
ATTACH;FMTTYPE=image/jpeg:https://terrehautefarm.com/wp-content/uploads/2025/02/IMG_3955-scaled.jpeg
END:VEVENT
BEGIN:VEVENT
DTSTART;TZID=America/New_York:20260207T133000
DTEND;TZID=America/New_York:20260207T150000
DTSTAMP:20260422T184441
CREATED:20260108T172239Z
LAST-MODIFIED:20260120T004616Z
UID:10000150-1770471000-1770476400@terrehautefarm.com
SUMMARY:Valentine's Day Tea - 2/7\, 2026 1:30 pm
DESCRIPTION:Join us for a special Valentine’s Day Tea featuring our sweet and savory delights!
URL:https://terrehautefarm.com/event/valentines-day-tea-2-7-130-pm/
LOCATION:Terre Haute Farm\, 2565 Huguenot Springs Rd.\, Midlothian\, VA\, United States
CATEGORIES:Afternoon Tea
ATTACH;FMTTYPE=image/jpeg:https://terrehautefarm.com/wp-content/uploads/2025/02/IMG_3955-scaled.jpeg
END:VEVENT
BEGIN:VEVENT
DTSTART;TZID=America/New_York:20260207T140000
DTEND;TZID=America/New_York:20260207T153000
DTSTAMP:20260422T184441
CREATED:20260108T172708Z
LAST-MODIFIED:20260111T212605Z
UID:10000151-1770472800-1770478200@terrehautefarm.com
SUMMARY:Valentine's Day Tea - 2/7\, 2026 2 pm
DESCRIPTION:Join us for a special Valentine’s Day Tea featuring our sweet and savory delights!
URL:https://terrehautefarm.com/event/valentines-day-tea-2-7-130-pm-2/
LOCATION:Terre Haute Farm\, 2565 Huguenot Springs Rd.\, Midlothian\, VA\, United States
CATEGORIES:Afternoon Tea
ATTACH;FMTTYPE=image/jpeg:https://terrehautefarm.com/wp-content/uploads/2025/02/IMG_3955-scaled.jpeg
END:VEVENT
BEGIN:VEVENT
DTSTART;TZID=America/New_York:20260207T143000
DTEND;TZID=America/New_York:20260207T160000
DTSTAMP:20260422T184441
CREATED:20260108T173830Z
LAST-MODIFIED:20260111T212640Z
UID:10000152-1770474600-1770480000@terrehautefarm.com
SUMMARY:Valentine's Day Tea - 2/7\, 2026 2:30 pm
DESCRIPTION:Join us for a special Valentine’s Day Tea featuring our sweet and savory delights!
URL:https://terrehautefarm.com/event/valentines-day-tea-2-7-230-pm/
LOCATION:Terre Haute Farm\, 2565 Huguenot Springs Rd.\, Midlothian\, VA\, United States
CATEGORIES:Afternoon Tea
ATTACH;FMTTYPE=image/jpeg:https://terrehautefarm.com/wp-content/uploads/2025/02/IMG_3955-scaled.jpeg
END:VEVENT
BEGIN:VEVENT
DTSTART;TZID=America/New_York:20260207T150000
DTEND;TZID=America/New_York:20260207T163000
DTSTAMP:20260422T184441
CREATED:20260108T174121Z
LAST-MODIFIED:20260111T212904Z
UID:10000153-1770476400-1770481800@terrehautefarm.com
SUMMARY:Valentine's Day Tea - 2/7\, 2026 3 pm
DESCRIPTION:Join us for a special Valentine’s Day Tea featuring our sweet and savory delights!
URL:https://terrehautefarm.com/event/valentines-day-tea-2-7-3-pm/
LOCATION:Terre Haute Farm\, 2565 Huguenot Springs Rd.\, Midlothian\, VA\, United States
CATEGORIES:Afternoon Tea
ATTACH;FMTTYPE=image/jpeg:https://terrehautefarm.com/wp-content/uploads/2025/02/IMG_3955-scaled.jpeg
END:VEVENT
BEGIN:VEVENT
DTSTART;TZID=America/New_York:20260208T130000
DTEND;TZID=America/New_York:20260208T143000
DTSTAMP:20260422T184441
CREATED:20260108T184220Z
LAST-MODIFIED:20260111T212957Z
UID:10000154-1770555600-1770561000@terrehautefarm.com
SUMMARY:Valentine's Day Tea - 2/8\, 2026 1 pm
DESCRIPTION:Join us for a special Valentine’s Day Tea featuring our sweet and savory delights!
URL:https://terrehautefarm.com/event/valentines-day-tea-2-8-1-pm/
LOCATION:Terre Haute Farm\, 2565 Huguenot Springs Rd.\, Midlothian\, VA\, United States
CATEGORIES:Afternoon Tea
ATTACH;FMTTYPE=image/jpeg:https://terrehautefarm.com/wp-content/uploads/2025/02/IMG_3955-scaled.jpeg
END:VEVENT
BEGIN:VEVENT
DTSTART;TZID=America/New_York:20260208T133000
DTEND;TZID=America/New_York:20260208T150000
DTSTAMP:20260422T184441
CREATED:20260111T211610Z
LAST-MODIFIED:20260111T213035Z
UID:10000155-1770557400-1770562800@terrehautefarm.com
SUMMARY:Valentine's Day Tea - 2/8\, 2026 1:30 pm
DESCRIPTION:Join us for a special Valentine’s Day Tea featuring our sweet and savory delights!
URL:https://terrehautefarm.com/event/valentines-day-tea-2-8-130-pm/
LOCATION:Terre Haute Farm\, 2565 Huguenot Springs Rd.\, Midlothian\, VA\, United States
CATEGORIES:Afternoon Tea
ATTACH;FMTTYPE=image/jpeg:https://terrehautefarm.com/wp-content/uploads/2025/02/IMG_3955-scaled.jpeg
END:VEVENT
BEGIN:VEVENT
DTSTART;TZID=America/New_York:20260208T140000
DTEND;TZID=America/New_York:20260208T153000
DTSTAMP:20260422T184441
CREATED:20260111T211858Z
LAST-MODIFIED:20260111T213210Z
UID:10000156-1770559200-1770564600@terrehautefarm.com
SUMMARY:Valentine's Day Tea - 2/8\, 2026 2 pm
DESCRIPTION:Join us for a special Valentine’s Day Tea featuring our sweet and savory delights!
URL:https://terrehautefarm.com/event/valentines-day-tea-2-8-2-pm/
LOCATION:Terre Haute Farm\, 2565 Huguenot Springs Rd.\, Midlothian\, VA\, United States
CATEGORIES:Afternoon Tea
ATTACH;FMTTYPE=image/jpeg:https://terrehautefarm.com/wp-content/uploads/2025/02/IMG_3955-scaled.jpeg
END:VEVENT
BEGIN:VEVENT
DTSTART;TZID=America/New_York:20260208T143000
DTEND;TZID=America/New_York:20260208T160000
DTSTAMP:20260422T184441
CREATED:20260111T212154Z
LAST-MODIFIED:20260111T213125Z
UID:10000157-1770561000-1770566400@terrehautefarm.com
SUMMARY:Valentine's Day Tea - 2/8\, 2026 2:30 pm
DESCRIPTION:Join us for a special Valentine’s Day Tea featuring our sweet and savory delights!
URL:https://terrehautefarm.com/event/valentines-day-tea-2-8-230-pm/
LOCATION:Terre Haute Farm\, 2565 Huguenot Springs Rd.\, Midlothian\, VA\, United States
CATEGORIES:Afternoon Tea
ATTACH;FMTTYPE=image/jpeg:https://terrehautefarm.com/wp-content/uploads/2025/02/IMG_3955-scaled.jpeg
END:VEVENT
BEGIN:VEVENT
DTSTART;TZID=America/New_York:20260208T143000
DTEND;TZID=America/New_York:20260208T160000
DTSTAMP:20260422T184441
CREATED:20260111T212402Z
LAST-MODIFIED:20260111T212408Z
UID:10000158-1770561000-1770566400@terrehautefarm.com
SUMMARY:Valentine's Day Tea - 2/8 2026\, 3 pm
DESCRIPTION:Join us for a special Valentine’s Day Tea featuring our sweet and savory delights!
URL:https://terrehautefarm.com/event/valentines-day-tea-2-8-2026-3-pm/
LOCATION:Terre Haute Farm\, 2565 Huguenot Springs Rd.\, Midlothian\, VA\, United States
CATEGORIES:Afternoon Tea
ATTACH;FMTTYPE=image/jpeg:https://terrehautefarm.com/wp-content/uploads/2025/02/IMG_3955-scaled.jpeg
END:VEVENT
BEGIN:VEVENT
DTSTART;TZID=America/New_York:20260214T130000
DTEND;TZID=America/New_York:20260214T143000
DTSTAMP:20260422T184441
CREATED:20260111T213401Z
LAST-MODIFIED:20260111T213608Z
UID:10000159-1771074000-1771079400@terrehautefarm.com
SUMMARY:Valentine's Day Tea - 2/14 2026\, 1 pm
DESCRIPTION:Join us for a special Valentine’s Day Tea featuring our sweet and savory delights!
URL:https://terrehautefarm.com/event/valentines-day-tea-2-14-2026-1-pm/
LOCATION:Terre Haute Farm\, 2565 Huguenot Springs Rd.\, Midlothian\, VA\, United States
CATEGORIES:Afternoon Tea
ATTACH;FMTTYPE=image/jpeg:https://terrehautefarm.com/wp-content/uploads/2025/02/IMG_3955-scaled.jpeg
END:VEVENT
BEGIN:VEVENT
DTSTART;TZID=America/New_York:20260214T133000
DTEND;TZID=America/New_York:20260214T150000
DTSTAMP:20260422T184441
CREATED:20260111T213726Z
LAST-MODIFIED:20260111T214027Z
UID:10000160-1771075800-1771081200@terrehautefarm.com
SUMMARY:Valentine's Day Tea - 2/14 2026\, 1:30 pm
DESCRIPTION:Join us for a special Valentine’s Day Tea featuring our sweet and savory delights!
URL:https://terrehautefarm.com/event/valentines-day-tea-2-14-2026-130-pm/
LOCATION:Terre Haute Farm\, 2565 Huguenot Springs Rd.\, Midlothian\, VA\, United States
CATEGORIES:Afternoon Tea
ATTACH;FMTTYPE=image/jpeg:https://terrehautefarm.com/wp-content/uploads/2025/02/IMG_3955-scaled.jpeg
END:VEVENT
BEGIN:VEVENT
DTSTART;TZID=America/New_York:20260214T140000
DTEND;TZID=America/New_York:20260214T153000
DTSTAMP:20260422T184441
CREATED:20260111T213852Z
LAST-MODIFIED:20260111T213858Z
UID:10000161-1771077600-1771083000@terrehautefarm.com
SUMMARY:Valentine's Day Tea - 2/14 2026\, 2 pm
DESCRIPTION:Join us for a special Valentine’s Day Tea featuring our sweet and savory delights!
URL:https://terrehautefarm.com/event/valentines-day-tea-2-14-2026-2-pm/
LOCATION:Terre Haute Farm\, 2565 Huguenot Springs Rd.\, Midlothian\, VA\, United States
CATEGORIES:Afternoon Tea
ATTACH;FMTTYPE=image/jpeg:https://terrehautefarm.com/wp-content/uploads/2025/02/IMG_3955-scaled.jpeg
END:VEVENT
BEGIN:VEVENT
DTSTART;TZID=America/New_York:20260214T143000
DTEND;TZID=America/New_York:20260214T160000
DTSTAMP:20260422T184441
CREATED:20260111T214204Z
LAST-MODIFIED:20260111T214210Z
UID:10000162-1771079400-1771084800@terrehautefarm.com
SUMMARY:Valentine's Day Tea - 2/14 2026\, 2:30 pm
DESCRIPTION:Join us for a special Valentine’s Day Tea featuring our sweet and savory delights!
URL:https://terrehautefarm.com/event/valentines-day-tea-2-14-2026-230-pm/
LOCATION:Terre Haute Farm\, 2565 Huguenot Springs Rd.\, Midlothian\, VA\, United States
CATEGORIES:Afternoon Tea
ATTACH;FMTTYPE=image/jpeg:https://terrehautefarm.com/wp-content/uploads/2025/02/IMG_3955-scaled.jpeg
END:VEVENT
BEGIN:VEVENT
DTSTART;TZID=America/New_York:20260214T150000
DTEND;TZID=America/New_York:20260214T163000
DTSTAMP:20260422T184441
CREATED:20260111T214430Z
LAST-MODIFIED:20260111T214438Z
UID:10000163-1771081200-1771086600@terrehautefarm.com
SUMMARY:Valentine's Day Tea - 2/14 2026\, 3 pm
DESCRIPTION:Join us for a special Valentine’s Day Tea featuring our sweet and savory delights!
URL:https://terrehautefarm.com/event/valentines-day-tea-2-14-2026-3-pm/
LOCATION:Terre Haute Farm\, 2565 Huguenot Springs Rd.\, Midlothian\, VA\, United States
CATEGORIES:Afternoon Tea
ATTACH;FMTTYPE=image/jpeg:https://terrehautefarm.com/wp-content/uploads/2025/02/IMG_3955-scaled.jpeg
END:VEVENT
BEGIN:VEVENT
DTSTART;TZID=America/New_York:20260215T130000
DTEND;TZID=America/New_York:20260215T143000
DTSTAMP:20260422T184441
CREATED:20260111T214722Z
LAST-MODIFIED:20260111T214854Z
UID:10000164-1771160400-1771165800@terrehautefarm.com
SUMMARY:Valentine's Day Tea - 2/15 2026\, 1 pm
DESCRIPTION:Join us for a special Valentine’s Day Tea featuring our sweet and savory delights!
URL:https://terrehautefarm.com/event/valentines-day-tea-2-15-2026-1-pm/
LOCATION:Terre Haute Farm\, 2565 Huguenot Springs Rd.\, Midlothian\, VA\, United States
CATEGORIES:Afternoon Tea
ATTACH;FMTTYPE=image/jpeg:https://terrehautefarm.com/wp-content/uploads/2025/02/IMG_3955-scaled.jpeg
END:VEVENT
BEGIN:VEVENT
DTSTART;TZID=America/New_York:20260215T133000
DTEND;TZID=America/New_York:20260215T150000
DTSTAMP:20260422T184441
CREATED:20260111T215125Z
LAST-MODIFIED:20260111T215305Z
UID:10000165-1771162200-1771167600@terrehautefarm.com
SUMMARY:Valentine's Day Tea - 2/15 2026\, 1:30 pm
DESCRIPTION:Join us for a special Valentine’s Day Tea featuring our sweet and savory delights!
URL:https://terrehautefarm.com/event/valentines-day-tea-2-15-2026-130-pm/
LOCATION:Terre Haute Farm\, 2565 Huguenot Springs Rd.\, Midlothian\, VA\, United States
CATEGORIES:Afternoon Tea
ATTACH;FMTTYPE=image/jpeg:https://terrehautefarm.com/wp-content/uploads/2025/02/IMG_3955-scaled.jpeg
END:VEVENT
BEGIN:VEVENT
DTSTART;TZID=America/New_York:20260215T140000
DTEND;TZID=America/New_York:20260215T153000
DTSTAMP:20260422T184441
CREATED:20260111T215951Z
LAST-MODIFIED:20260111T215957Z
UID:10000167-1771164000-1771169400@terrehautefarm.com
SUMMARY:Valentine's Day Tea - 2/15 2026\, 2 pm
DESCRIPTION:Join us for a special Valentine’s Day Tea featuring our sweet and savory delights!
URL:https://terrehautefarm.com/event/valentines-day-tea-2-15-2026-2-pm-2/
LOCATION:Terre Haute Farm\, 2565 Huguenot Springs Rd.\, Midlothian\, VA\, United States
CATEGORIES:Afternoon Tea
ATTACH;FMTTYPE=image/jpeg:https://terrehautefarm.com/wp-content/uploads/2025/02/IMG_3955-scaled.jpeg
END:VEVENT
BEGIN:VEVENT
DTSTART;TZID=America/New_York:20260215T143000
DTEND;TZID=America/New_York:20260215T160000
DTSTAMP:20260422T184441
CREATED:20260111T215533Z
LAST-MODIFIED:20260111T215730Z
UID:10000166-1771165800-1771171200@terrehautefarm.com
SUMMARY:Valentine's Day Tea - 2/15 2026\, 2:30 pm
DESCRIPTION:Join us for a special Valentine’s Day Tea featuring our sweet and savory delights!
URL:https://terrehautefarm.com/event/valentines-day-tea-2-15-2026-2-pm/
LOCATION:Terre Haute Farm\, 2565 Huguenot Springs Rd.\, Midlothian\, VA\, United States
CATEGORIES:Afternoon Tea
ATTACH;FMTTYPE=image/jpeg:https://terrehautefarm.com/wp-content/uploads/2025/02/IMG_3955-scaled.jpeg
END:VEVENT
BEGIN:VEVENT
DTSTART;TZID=America/New_York:20260215T150000
DTEND;TZID=America/New_York:20260215T163000
DTSTAMP:20260422T184441
CREATED:20260111T220242Z
LAST-MODIFIED:20260111T220249Z
UID:10000168-1771167600-1771173000@terrehautefarm.com
SUMMARY:Valentine's Day Tea - 2/15 2026\, 3 pm
DESCRIPTION:Join us for a special Valentine’s Day Tea featuring our sweet and savory delights!
URL:https://terrehautefarm.com/event/valentines-day-tea-2-15-2026-3-pm/
LOCATION:Terre Haute Farm\, 2565 Huguenot Springs Rd.\, Midlothian\, VA\, United States
CATEGORIES:Afternoon Tea
ATTACH;FMTTYPE=image/jpeg:https://terrehautefarm.com/wp-content/uploads/2025/02/IMG_3955-scaled.jpeg
END:VEVENT
BEGIN:VEVENT
DTSTART;TZID=America/New_York:20260508T130000
DTEND;TZID=America/New_York:20260508T143000
DTSTAMP:20260422T184441
CREATED:20260316T190324Z
LAST-MODIFIED:20260316T190332Z
UID:10000169-1778245200-1778250600@terrehautefarm.com
SUMMARY:Mother's Day Tea - May 8\, 2026\, 1 pm
DESCRIPTION:Join us for a special Mother’s Day Tea featuring our homemade delights!
URL:https://terrehautefarm.com/event/mothers-day-tea-may-8-2026-1-pm/
LOCATION:Terre Haute Farm\, 2565 Huguenot Springs Rd.\, Midlothian\, VA\, United States
CATEGORIES:Afternoon Tea
ATTACH;FMTTYPE=image/heic:https://terrehautefarm.com/wp-content/uploads/2026/03/72EA1DBB-DB23-414B-BD68-90DE31B68C4B_1_201_a-scaled.jpg
END:VEVENT
BEGIN:VEVENT
DTSTART;TZID=America/New_York:20260508T133000
DTEND;TZID=America/New_York:20260508T150000
DTSTAMP:20260422T184441
CREATED:20260316T190848Z
LAST-MODIFIED:20260316T190854Z
UID:10000170-1778247000-1778252400@terrehautefarm.com
SUMMARY:Mother's Day Tea - May 8\, 2026\, 1:30 pm
DESCRIPTION:Join us for a special Mother’s Day Tea featuring our homemade delights!
URL:https://terrehautefarm.com/event/mothers-day-tea-may-8-2026-130-pm/
LOCATION:Terre Haute Farm\, 2565 Huguenot Springs Rd.\, Midlothian\, VA\, United States
CATEGORIES:Afternoon Tea
ATTACH;FMTTYPE=image/heic:https://terrehautefarm.com/wp-content/uploads/2026/03/72EA1DBB-DB23-414B-BD68-90DE31B68C4B_1_201_a-scaled.jpg
END:VEVENT
BEGIN:VEVENT
DTSTART;TZID=America/New_York:20260508T140000
DTEND;TZID=America/New_York:20260508T153000
DTSTAMP:20260422T184441
CREATED:20260316T191231Z
LAST-MODIFIED:20260316T191237Z
UID:10000171-1778248800-1778254200@terrehautefarm.com
SUMMARY:Mother's Day Tea - May 8\, 2026 2 pm
DESCRIPTION:Join us for a special Mother’s Day Tea featuring our homemade delights!
URL:https://terrehautefarm.com/event/mothers-day-tea-may-8-2026-2-pm/
LOCATION:Terre Haute Farm\, 2565 Huguenot Springs Rd.\, Midlothian\, VA\, United States
CATEGORIES:Afternoon Tea
ATTACH;FMTTYPE=image/heic:https://terrehautefarm.com/wp-content/uploads/2026/03/72EA1DBB-DB23-414B-BD68-90DE31B68C4B_1_201_a-scaled.jpg
END:VEVENT
BEGIN:VEVENT
DTSTART;TZID=America/New_York:20260508T143000
DTEND;TZID=America/New_York:20260508T160000
DTSTAMP:20260422T184441
CREATED:20260316T191438Z
LAST-MODIFIED:20260316T191445Z
UID:10000172-1778250600-1778256000@terrehautefarm.com
SUMMARY:Mother's Day Tea - May 8\, 2026 2:30 pm
DESCRIPTION:Join us for a special Mother’s Day Tea featuring our homemade delights!
URL:https://terrehautefarm.com/event/mothers-day-tea-may-8-2026-230-pm/
LOCATION:Terre Haute Farm\, 2565 Huguenot Springs Rd.\, Midlothian\, VA\, United States
CATEGORIES:Afternoon Tea
ATTACH;FMTTYPE=image/heic:https://terrehautefarm.com/wp-content/uploads/2026/03/72EA1DBB-DB23-414B-BD68-90DE31B68C4B_1_201_a-scaled.jpg
END:VEVENT
BEGIN:VEVENT
DTSTART;TZID=America/New_York:20260508T150000
DTEND;TZID=America/New_York:20260508T163000
DTSTAMP:20260422T184441
CREATED:20260316T191714Z
LAST-MODIFIED:20260316T191722Z
UID:10000173-1778252400-1778257800@terrehautefarm.com
SUMMARY:Mother's Day Tea - May 8\, 2026 3 pm
DESCRIPTION:Join us for a special Mother’s Day Tea featuring our homemade delights!
URL:https://terrehautefarm.com/event/mothers-day-tea-may-8-2026-3-pm/
LOCATION:Terre Haute Farm\, 2565 Huguenot Springs Rd.\, Midlothian\, VA\, United States
CATEGORIES:Afternoon Tea
ATTACH;FMTTYPE=image/heic:https://terrehautefarm.com/wp-content/uploads/2026/03/72EA1DBB-DB23-414B-BD68-90DE31B68C4B_1_201_a-scaled.jpg
END:VEVENT
BEGIN:VEVENT
DTSTART;TZID=America/New_York:20260509T130000
DTEND;TZID=America/New_York:20260509T143000
DTSTAMP:20260422T184441
CREATED:20260322T021143Z
LAST-MODIFIED:20260322T021150Z
UID:10000174-1778331600-1778337000@terrehautefarm.com
SUMMARY:Mother's Day Tea - May 9\, 2026 1 pm
DESCRIPTION:Join us for a special Mother’s Day Tea featuring our homemade delights!
URL:https://terrehautefarm.com/event/mothers-day-tea-may-9-2026-1-pm/
LOCATION:Terre Haute Farm\, 2565 Huguenot Springs Rd.\, Midlothian\, VA\, United States
CATEGORIES:Afternoon Tea
ATTACH;FMTTYPE=image/jpeg:https://terrehautefarm.com/wp-content/uploads/2026/03/IMG_5550-scaled.jpeg
END:VEVENT
BEGIN:VEVENT
DTSTART;TZID=America/New_York:20260509T133000
DTEND;TZID=America/New_York:20260509T150000
DTSTAMP:20260422T184441
CREATED:20260322T021550Z
LAST-MODIFIED:20260322T021558Z
UID:10000175-1778333400-1778338800@terrehautefarm.com
SUMMARY:Mother's Day Tea - May 9\, 2026 1:30 pm
DESCRIPTION:Join us for a special Mother’s Day Tea featuring our homemade delights!
URL:https://terrehautefarm.com/event/mothers-day-tea-may-9-2026-130-pm/
LOCATION:Terre Haute Farm\, 2565 Huguenot Springs Rd.\, Midlothian\, VA\, United States
CATEGORIES:Afternoon Tea
ATTACH;FMTTYPE=image/jpeg:https://terrehautefarm.com/wp-content/uploads/2026/03/IMG_5550-scaled.jpeg
END:VEVENT
BEGIN:VEVENT
DTSTART;TZID=America/New_York:20260509T140000
DTEND;TZID=America/New_York:20260509T153000
DTSTAMP:20260422T184441
CREATED:20260322T021806Z
LAST-MODIFIED:20260322T021813Z
UID:10000176-1778335200-1778340600@terrehautefarm.com
SUMMARY:Mother's Day Tea - May 9\, 2026 2 pm
DESCRIPTION:Join us for a special Mother’s Day Tea featuring our homemade delights!
URL:https://terrehautefarm.com/event/mothers-day-tea-may-9-2026-2-pm/
LOCATION:Terre Haute Farm\, 2565 Huguenot Springs Rd.\, Midlothian\, VA\, United States
CATEGORIES:Afternoon Tea
ATTACH;FMTTYPE=image/jpeg:https://terrehautefarm.com/wp-content/uploads/2026/03/IMG_5550-scaled.jpeg
END:VEVENT
BEGIN:VEVENT
DTSTART;TZID=America/New_York:20260509T143000
DTEND;TZID=America/New_York:20260509T160000
DTSTAMP:20260422T184441
CREATED:20260322T022016Z
LAST-MODIFIED:20260322T022023Z
UID:10000177-1778337000-1778342400@terrehautefarm.com
SUMMARY:Mother's Day Tea - May 9\, 2026 2:30 pm
DESCRIPTION:Join us for a special Mother’s Day Tea featuring our homemade delights!
URL:https://terrehautefarm.com/event/mothers-day-tea-may-9-2026-230-pm/
LOCATION:Terre Haute Farm\, 2565 Huguenot Springs Rd.\, Midlothian\, VA\, United States
CATEGORIES:Afternoon Tea
ATTACH;FMTTYPE=image/jpeg:https://terrehautefarm.com/wp-content/uploads/2026/03/IMG_5550-scaled.jpeg
END:VEVENT
BEGIN:VEVENT
DTSTART;TZID=America/New_York:20260509T150000
DTEND;TZID=America/New_York:20260509T163000
DTSTAMP:20260422T184441
CREATED:20260322T022241Z
LAST-MODIFIED:20260322T022248Z
UID:10000178-1778338800-1778344200@terrehautefarm.com
SUMMARY:Mother's Day Tea - May 9\, 2026 3 pm
DESCRIPTION:Join us for a special Mother’s Day Tea featuring our homemade delights!
URL:https://terrehautefarm.com/event/mothers-day-tea-may-9-2026-3-pm/
LOCATION:Terre Haute Farm\, 2565 Huguenot Springs Rd.\, Midlothian\, VA\, United States
CATEGORIES:Afternoon Tea
ATTACH;FMTTYPE=image/jpeg:https://terrehautefarm.com/wp-content/uploads/2026/03/IMG_5550-scaled.jpeg
END:VEVENT
END:VCALENDAR