BEGIN:VCALENDAR
VERSION:2.0
PRODID:-// - ECPv6.15.20//NONSGML v1.0//EN
CALSCALE:GREGORIAN
METHOD:PUBLISH
X-ORIGINAL-URL:https://terrehautefarm.com
X-WR-CALDESC:Events for 
REFRESH-INTERVAL;VALUE=DURATION:PT1H
X-Robots-Tag:noindex
X-PUBLISHED-TTL:PT1H
BEGIN:VTIMEZONE
TZID:America/New_York
BEGIN:DAYLIGHT
TZOFFSETFROM:-0500
TZOFFSETTO:-0400
TZNAME:EDT
DTSTART:20230312T070000
END:DAYLIGHT
BEGIN:STANDARD
TZOFFSETFROM:-0400
TZOFFSETTO:-0500
TZNAME:EST
DTSTART:20231105T060000
END:STANDARD
BEGIN:DAYLIGHT
TZOFFSETFROM:-0500
TZOFFSETTO:-0400
TZNAME:EDT
DTSTART:20240310T070000
END:DAYLIGHT
BEGIN:STANDARD
TZOFFSETFROM:-0400
TZOFFSETTO:-0500
TZNAME:EST
DTSTART:20241103T060000
END:STANDARD
BEGIN:DAYLIGHT
TZOFFSETFROM:-0500
TZOFFSETTO:-0400
TZNAME:EDT
DTSTART:20250309T070000
END:DAYLIGHT
BEGIN:STANDARD
TZOFFSETFROM:-0400
TZOFFSETTO:-0500
TZNAME:EST
DTSTART:20251102T060000
END:STANDARD
END:VTIMEZONE
BEGIN:VEVENT
DTSTART;TZID=America/New_York:20241220T140000
DTEND;TZID=America/New_York:20241220T153000
DTSTAMP:20260422T205503
CREATED:20241029T170544Z
LAST-MODIFIED:20241215T014647Z
UID:10000033-1734703200-1734708600@terrehautefarm.com
SUMMARY:Holiday Farmhouse Tea\, 12/20\, 2:00 pm
DESCRIPTION:As part of this year’s holiday celebrations\, we’re happy to offer a Holiday Farmhouse Tea.  \n\n\n\nCome delight in our beautiful manor house and summer kitchen all decked out for the season! After tea\, take a stroll through our extensive grounds and enjoy “the holly and the ivy”…and other natural wonders! \n\n\n\nOur Teddy Bear Tea is a smaller version of our holiday Farmhouse Tea for those under 12. \n\n\n\nAll bookings secure your table for an hour and a half. \n\n\n\n\n\n\n\n\n\nMenu: \n\n\n\n\nScone with cream and jam\n\n\n\nOrange Blossom\n\n\n\nSweet Potato Biscuit with Ham\n\n\n\nHoliday Cookies\n\n\n\nLemon Bar\n\n\n\nPot of Tea\n\n\n\n\n \n\n\n\n\nIf you have allergies or dietary restrictions\, please let us know here.
URL:https://terrehautefarm.com/event/holiday-farmhouse-tea-12-20-2024-200-pm/
LOCATION:Terre Haute Farm\, 2565 Huguenot Springs Rd.\, Midlothian\, VA\, United States
CATEGORIES:Afternoon Tea
ATTACH;FMTTYPE=image/png:https://terrehautefarm.com/wp-content/uploads/2024/10/3.png
END:VEVENT
BEGIN:VEVENT
DTSTART;TZID=America/New_York:20241220T133000
DTEND;TZID=America/New_York:20241220T150000
DTSTAMP:20260422T205503
CREATED:20241029T170508Z
LAST-MODIFIED:20241215T014233Z
UID:10000032-1734701400-1734706800@terrehautefarm.com
SUMMARY:Holiday Farmhouse Tea\, 12/20\, 1:30 pm
DESCRIPTION:As part of this year’s holiday celebrations\, we’re happy to offer a Holiday Farmhouse Tea.  \n\n\n\nCome delight in our beautiful manor house and summer kitchen all decked out for the season! After tea\, take a stroll through our extensive grounds and enjoy “the holly and the ivy”…and other natural wonders! \n\n\n\nOur Teddy Bear Tea is a smaller version of our holiday Farmhouse Tea for those under 12. \n\n\n\nAll bookings secure your table for an hour and a half. \n\n\n\n\n\n\n\n\n\nMenu: \n\n\n\n\nScones with cream and jam\n\n\n\nOrange Blossom\n\n\n\nSweet Potato Biscuits with Ham\n\n\n\nHoliday Cookies\n\n\n\nLemon Bars\n\n\n\nPot of Tea\n\n\n\n\n \n\n\n\n\nIf you have allergies or dietary restrictions\, please let us know here.
URL:https://terrehautefarm.com/event/holiday-farmhouse-tea-12-20-2024-130-pm/
LOCATION:Terre Haute Farm\, 2565 Huguenot Springs Rd.\, Midlothian\, VA\, United States
CATEGORIES:Afternoon Tea
ATTACH;FMTTYPE=image/png:https://terrehautefarm.com/wp-content/uploads/2024/10/3.png
END:VEVENT
BEGIN:VEVENT
DTSTART;TZID=America/New_York:20241220T130000
DTEND;TZID=America/New_York:20241220T143000
DTSTAMP:20260422T205503
CREATED:20241029T170427Z
LAST-MODIFIED:20241215T014150Z
UID:10000031-1734699600-1734705000@terrehautefarm.com
SUMMARY:Holiday Farmhouse Tea\, 12/20\, 1:00 pm
DESCRIPTION:As part of this year’s holiday celebrations\, we’re happy to offer a Holiday Farmhouse Tea.  \n\n\n\nCome delight in our beautiful manor house and summer kitchen all decked out for the season! After tea\, take a stroll through our extensive grounds and enjoy “the holly and the ivy”…and other natural wonders! \n\n\n\nOur Teddy Bear Tea is a smaller version of our Holiday Farmhouse Tea for those under 12. \n\n\n\nAll bookings secure your table for an hour and a half. \n\n\n\n\n\n\n\n\n\nMenu: \n\n\n\n\nScones with cream and jam\n\n\n\nOrange Blossom\n\n\n\nSweet Potato Biscuits with Ham\n\n\n\nHoliday Cookies\n\n\n\nLemon Bars\n\n\n\nPot of Tea\n\n\n\n\n \n\n\n\n\nIf you have allergies or dietary restrictions\, please let us know here.
URL:https://terrehautefarm.com/event/holiday-farmhouse-tea-12-20-2024-100-pm/
LOCATION:Terre Haute Farm\, 2565 Huguenot Springs Rd.\, Midlothian\, VA\, United States
CATEGORIES:Afternoon Tea
ATTACH;FMTTYPE=image/png:https://terrehautefarm.com/wp-content/uploads/2024/10/3.png
END:VEVENT
BEGIN:VEVENT
DTSTART;TZID=America/New_York:20241219T153000
DTEND;TZID=America/New_York:20241219T170000
DTSTAMP:20260422T205503
CREATED:20241029T170140Z
LAST-MODIFIED:20241215T013931Z
UID:10000029-1734622200-1734627600@terrehautefarm.com
SUMMARY:Holiday Farmhouse Tea\, 12/19\, 3:30 pm
DESCRIPTION:As part of this year’s holiday celebrations\, we’re happy to offer a Holiday Farmhouse Tea.  \n\n\n\nCome delight in our beautiful manor house and summer kitchen all decked out for the season! After tea\, take a stroll through our extensive grounds and enjoy “the holly and the ivy”…and other natural wonders! \n\n\n\nOur Teddy Bear Tea is a smaller version of our holiday Farmhouse Tea for those under 12. \n\n\n\nAll bookings secure your table for an hour and a half. \n\n\n\n\n\n\n\n\n\nMenu: \n\n\n\n\nScone with cream and jam\n\n\n\nOrange Blossom\n\n\n\nSweet Potato Biscuit with Ham\n\n\n\nHoliday Cookies\n\n\n\nLemon Bar\n\n\n\nPot of Tea\n\n\n\n\n \n\n\n\n\nIf you have allergies or dietary restrictions\, please let us know here.
URL:https://terrehautefarm.com/event/holiday-farmhouse-tea-12-19-2024-330-pm/
LOCATION:Terre Haute Farm\, 2565 Huguenot Springs Rd.\, Midlothian\, VA\, United States
CATEGORIES:Afternoon Tea
ATTACH;FMTTYPE=image/png:https://terrehautefarm.com/wp-content/uploads/2024/10/3.png
END:VEVENT
BEGIN:VEVENT
DTSTART;TZID=America/New_York:20241219T150000
DTEND;TZID=America/New_York:20241219T163000
DTSTAMP:20260422T205503
CREATED:20241029T170105Z
LAST-MODIFIED:20241215T013844Z
UID:10000028-1734620400-1734625800@terrehautefarm.com
SUMMARY:Holiday Farmhouse Tea\, 12/19\, 3:00 pm
DESCRIPTION:As part of this year’s holiday celebrations\, we’re happy to offer a Holiday Farmhouse Tea.  \n\n\n\nCome delight in our beautiful manor house and summer kitchen all decked out for the season! After tea\, take a stroll through our extensive grounds and enjoy “the holly and the ivy”…and other natural wonders! \n\n\n\nOur Teddy Bear Tea is a smaller version of our holiday Farmhouse Tea for those under 12. \n\n\n\nAll bookings secure your table for an hour and a half. \n\n\n\n\n\n\n\n\n\nMenu: \n\n\n\n\nScones with cream and jam\n\n\n\nOrange Blossom\n\n\n\nSweet Potato Biscuits with Ham\n\n\n\nHoliday Cookies\n\n\n\nLemon Bars\n\n\n\nPot of Tea\n\n\n\n\n \n\n\n\n\nIf you have allergies or dietary restrictions\, please let us know here.
URL:https://terrehautefarm.com/event/holiday-farmhouse-tea-12-19-2024-300-pm/
LOCATION:Terre Haute Farm\, 2565 Huguenot Springs Rd.\, Midlothian\, VA\, United States
CATEGORIES:Afternoon Tea
ATTACH;FMTTYPE=image/png:https://terrehautefarm.com/wp-content/uploads/2024/10/3.png
END:VEVENT
BEGIN:VEVENT
DTSTART;TZID=America/New_York:20241219T143000
DTEND;TZID=America/New_York:20241219T160000
DTSTAMP:20260422T205503
CREATED:20241029T170339Z
LAST-MODIFIED:20241215T014106Z
UID:10000030-1734618600-1734624000@terrehautefarm.com
SUMMARY:Holiday Farmhouse Tea\, 12/19\, 2:30 pm
DESCRIPTION:As part of this year’s holiday celebrations\, we’re happy to offer a Holiday Farmhouse Tea.  \n\n\n\nCome delight in our beautiful manor house and summer kitchen all decked out for the season! After tea\, take a stroll through our extensive grounds and enjoy “the holly and the ivy”…and other natural wonders! \n\n\n\nOur Teddy Bear Tea is a smaller version of our holiday Farmhouse Tea for those under 12. \n\n\n\nAll bookings secure your table for an hour and a half. \n\n\n\n\n\n\n\n\n\nMenu: \n\n\n\n\nScones with cream and jam\n\n\n\nOrange Blossom\n\n\n\nSweet Potato Biscuits with Ham\n\n\n\nHoliday Cookies\n\n\n\nLemon Bars\n\n\n\nPot of Tea\n\n\n\n\n \n\n\n\n\nIf you have allergies or dietary restrictions\, please let us know here.
URL:https://terrehautefarm.com/event/holiday-farmhouse-tea-12-19-2024-230-pm/
LOCATION:Terre Haute Farm\, 2565 Huguenot Springs Rd.\, Midlothian\, VA\, United States
CATEGORIES:Afternoon Tea
ATTACH;FMTTYPE=image/png:https://terrehautefarm.com/wp-content/uploads/2024/10/3.png
END:VEVENT
BEGIN:VEVENT
DTSTART;TZID=America/New_York:20241219T140000
DTEND;TZID=America/New_York:20241219T153000
DTSTAMP:20260422T205503
CREATED:20241029T170014Z
LAST-MODIFIED:20241215T013802Z
UID:10000027-1734616800-1734622200@terrehautefarm.com
SUMMARY:Holiday Farmhouse Tea\, 12/19\, 2:00 pm
DESCRIPTION:As part of this year’s holiday celebrations\, we’re happy to offer a Holiday Farmhouse Tea.  \n\n\n\nCome delight in our beautiful manor house and summer kitchen all decked out for the season! After tea\, take a stroll through our extensive grounds and enjoy “the holly and the ivy”…and other natural wonders! \n\n\n\nOur Teddy Bear Tea is a smaller version of our holiday Farmhouse Tea for those under 12. \n\n\n\nAll bookings secure your table for an hour and a half. \n\n\n\n\n\n\n\n\n\nMenu: \n\n\n\n\nScones with cream and jam\n\n\n\nOrange Blossom\n\n\n\nSweet Potato Biscuits with Ham\n\n\n\nHoliday Cookies\n\n\n\nLemon Bars\n\n\n\nPot of Tea\n\n\n\n\n \n\n\n\n\nIf you have allergies or dietary restrictions\, please let us know here.
URL:https://terrehautefarm.com/event/holiday-farmhouse-tea-12-19-2024-200-pm/
LOCATION:Terre Haute Farm\, 2565 Huguenot Springs Rd.\, Midlothian\, VA\, United States
CATEGORIES:Afternoon Tea
ATTACH;FMTTYPE=image/png:https://terrehautefarm.com/wp-content/uploads/2024/10/3.png
END:VEVENT
BEGIN:VEVENT
DTSTART;TZID=America/New_York:20241219T133000
DTEND;TZID=America/New_York:20241219T150000
DTSTAMP:20260422T205503
CREATED:20241029T165938Z
LAST-MODIFIED:20241215T013723Z
UID:10000026-1734615000-1734620400@terrehautefarm.com
SUMMARY:Holiday Farmhouse Tea\, 12/19\, 1:30 pm
DESCRIPTION:As part of this year’s holiday celebrations\, we’re happy to offer a Holiday Farmhouse Tea.  \n\n\n\nCome delight in our beautiful manor house and summer kitchen all decked out for the season! After tea\, take a stroll through our extensive grounds and enjoy “the holly and the ivy”…and other natural wonders! \n\n\n\nOur Teddy Bear Tea is a smaller version of our holiday Farmhouse Tea for those under 12. \n\n\n\nAll bookings secure your table for an hour and a half. \n\n\n\n\n\n\n\n\n\nMenu: \n\n\n\n\nScones with cream and jam\n\n\n\nOrange Blossom\n\n\n\nSweet Potato Biscuits with Ham\n\n\n\nHoliday Cookies\n\n\n\nLemon Bars\n\n\n\nPot of Tea\n\n\n\n\n \n\n\n\n\nIf you have allergies or dietary restrictions\, please let us know here.
URL:https://terrehautefarm.com/event/holiday-farmhouse-tea-12-19-2024-130-pm/
LOCATION:Terre Haute Farm\, 2565 Huguenot Springs Rd.\, Midlothian\, VA\, United States
CATEGORIES:Afternoon Tea
ATTACH;FMTTYPE=image/png:https://terrehautefarm.com/wp-content/uploads/2024/10/3.png
END:VEVENT
BEGIN:VEVENT
DTSTART;TZID=America/New_York:20241219T130000
DTEND;TZID=America/New_York:20241219T143000
DTSTAMP:20260422T205503
CREATED:20241029T165853Z
LAST-MODIFIED:20241215T013553Z
UID:10000025-1734613200-1734618600@terrehautefarm.com
SUMMARY:Holiday Farmhouse Tea\, 12/19\, 1:00 pm
DESCRIPTION:As part of this year’s holiday celebrations\, we’re happy to offer a Holiday Farmhouse Tea.  \n\n\n\nCome delight in our beautiful manor house and summer kitchen all decked out for the season! After tea\, take a stroll through our extensive grounds and enjoy “the holly and the ivy”…and other natural wonders! \n\n\n\nOur Teddy Bear Tea is a smaller version of our Holiday Farmhouse Tea for those under 12. \n\n\n\nAll bookings secure your table for an hour and a half. \n\n\n\n\n\n\n\n\n\nMenu: \n\n\n\n\nScones with cream and jam\n\n\n\nOrange Blossom\n\n\n\nSweet Potato Biscuits with Ham\n\n\n\nHoliday Cookies\n\n\n\nLemon Bars\n\n\n\nPot of Tea\n\n\n\n\n \n\n\n\n\nIf you have allergies or dietary restrictions\, please let us know here.
URL:https://terrehautefarm.com/event/holiday-farmhouse-tea-12-19-2024-100-pm/
LOCATION:VA
CATEGORIES:Afternoon Tea
ATTACH;FMTTYPE=image/png:https://terrehautefarm.com/wp-content/uploads/2024/10/3.png
END:VEVENT
BEGIN:VEVENT
DTSTART;TZID=America/New_York:20241215T153000
DTEND;TZID=America/New_York:20241215T170000
DTSTAMP:20260422T205503
CREATED:20241029T165720Z
LAST-MODIFIED:20241106T004306Z
UID:10000024-1734276600-1734282000@terrehautefarm.com
SUMMARY:Holiday Farmhouse Tea\, 12/15\, 3:30 pm
DESCRIPTION:As part of this year’s holiday celebrations\, we’re happy to offer a Holiday Farmhouse Tea.  \n\n\n\nCome delight in our beautiful manor house and summer kitchen all decked out for the season! After tea\, take a stroll through our extensive grounds and enjoy “the holly and the ivy”…and other natural wonders! \n\n\n\nOur Teddy Bear Tea is a smaller version of our holiday Farmhouse Tea for those under 12. \n\n\n\nAll bookings secure your table for an hour and a half. \n\n\n\n\n\n\n\n\n\nMenu: \n\n\n\n\nScones with cream and jam\n\n\n\nOrange Blossom\n\n\n\nSweet Potato Biscuits with Ham\n\n\n\nHoliday Cookies\n\n\n\nLemon Bars\n\n\n\nPot of Tea\n\n\n\n\n \n\n\n\n\nIf you have allergies or dietary restrictions\, please let us know here.
URL:https://terrehautefarm.com/event/holiday-farmhouse-tea-12-15-2024-330-pm/
LOCATION:Terre Haute Farm\, 2565 Huguenot Springs Rd.\, Midlothian\, VA\, United States
CATEGORIES:Afternoon Tea
ATTACH;FMTTYPE=image/png:https://terrehautefarm.com/wp-content/uploads/2024/10/3.png
END:VEVENT
BEGIN:VEVENT
DTSTART;TZID=America/New_York:20241215T150000
DTEND;TZID=America/New_York:20241215T163000
DTSTAMP:20260422T205503
CREATED:20241029T165616Z
LAST-MODIFIED:20241106T004049Z
UID:10000023-1734274800-1734280200@terrehautefarm.com
SUMMARY:Holiday Farmhouse Tea\, 12/15\, 3:00 pm
DESCRIPTION:As part of this year’s holiday celebrations\, we’re happy to offer a Holiday Farmhouse Tea.  \n\n\n\nCome delight in our beautiful manor house and summer kitchen all decked out for the season! After tea\, take a stroll through our extensive grounds and enjoy “the holly and the ivy”…and other natural wonders! \n\n\n\nOur Teddy Bear Tea is a smaller version of our holiday Farmhouse Tea for those under 12. \n\n\n\nAll bookings secure your table for an hour and a half. \n\n\n\n\n\n\n\n\n\nMenu: \n\n\n\n\nScones with cream and jam\n\n\n\nOrange Blossom\n\n\n\nSweet Potato Biscuits with Ham\n\n\n\nHoliday Cookies\n\n\n\nLemon Bars\n\n\n\nPot of Tea\n\n\n\n\n \n\n\n\n\nIf you have allergies or dietary restrictions\, please let us know here.
URL:https://terrehautefarm.com/event/holiday-farmhouse-tea-12-15-2024-300-pm/
LOCATION:Terre Haute Farm\, 2565 Huguenot Springs Rd.\, Midlothian\, VA\, United States
CATEGORIES:Afternoon Tea
ATTACH;FMTTYPE=image/png:https://terrehautefarm.com/wp-content/uploads/2024/10/3.png
END:VEVENT
BEGIN:VEVENT
DTSTART;TZID=America/New_York:20241215T143000
DTEND;TZID=America/New_York:20241215T160000
DTSTAMP:20260422T205503
CREATED:20241029T165533Z
LAST-MODIFIED:20241105T233032Z
UID:10000022-1734273000-1734278400@terrehautefarm.com
SUMMARY:Holiday Farmhouse Tea\, 12/15\, 2:30 pm
DESCRIPTION:As part of this year’s holiday celebrations\, we’re happy to offer a Holiday Farmhouse Tea.  \n\n\n\nCome delight in our beautiful manor house and summer kitchen all decked out for the season! After tea\, take a stroll through our extensive grounds and enjoy “the holly and the ivy”…and other natural wonders! \n\n\n\nOur Teddy Bear Tea is a smaller version of our holiday Farmhouse Tea for those under 12. \n\n\n\nAll bookings secure your table for an hour and a half. \n\n\n\n\n\n\n\n\n\nMenu: \n\n\n\n\nScones with cream and jam\n\n\n\nOrange Blossom\n\n\n\nSweet Potato Biscuits with Ham\n\n\n\nHoliday Cookies\n\n\n\nLemon Bars\n\n\n\nPot of Tea\n\n\n\n\n \n\n\n\n\nIf you have allergies or dietary restrictions\, please let us know here.
URL:https://terrehautefarm.com/event/holiday-farmhouse-tea-12-15-2024-230-pm/
LOCATION:Terre Haute Farm\, 2565 Huguenot Springs Rd.\, Midlothian\, VA\, United States
CATEGORIES:Afternoon Tea
ATTACH;FMTTYPE=image/png:https://terrehautefarm.com/wp-content/uploads/2024/10/3.png
END:VEVENT
BEGIN:VEVENT
DTSTART;TZID=America/New_York:20241215T140000
DTEND;TZID=America/New_York:20241215T153000
DTSTAMP:20260422T205503
CREATED:20241029T165426Z
LAST-MODIFIED:20241105T233130Z
UID:10000021-1734271200-1734276600@terrehautefarm.com
SUMMARY:Holiday Farmhouse Tea\, 12/15\, 2:00 pm
DESCRIPTION:As part of this year’s holiday celebrations\, we’re happy to offer a Holiday Farmhouse Tea.  \n\n\n\nCome delight in our beautiful manor house and summer kitchen all decked out for the season! After tea\, take a stroll through our extensive grounds and enjoy “the holly and the ivy”…and other natural wonders! \n\n\n\nOur Teddy Bear Tea is a smaller version of our holiday Farmhouse Tea for those under 12. \n\n\n\nAll bookings secure your table for an hour and a half. \n\n\n\n\n\n\n\n\n\nMenu: \n\n\n\n\nScones with cream and jam\n\n\n\nOrange Blossom\n\n\n\nSweet Potato Biscuits with Ham\n\n\n\nHoliday Cookies\n\n\n\nLemon Bars\n\n\n\nPot of Tea\n\n\n\n\n \n\n\n\n\nIf you have allergies or dietary restrictions\, please let us know here.
URL:https://terrehautefarm.com/event/holiday-farmhouse-tea-12-15-2024-200-pm/
LOCATION:Terre Haute Farm\, 2565 Huguenot Springs Rd.\, Midlothian\, VA\, United States
CATEGORIES:Afternoon Tea
ATTACH;FMTTYPE=image/png:https://terrehautefarm.com/wp-content/uploads/2024/10/3.png
END:VEVENT
BEGIN:VEVENT
DTSTART;TZID=America/New_York:20241215T133000
DTEND;TZID=America/New_York:20241215T150000
DTSTAMP:20260422T205503
CREATED:20241029T165330Z
LAST-MODIFIED:20241106T231504Z
UID:10000020-1734269400-1734274800@terrehautefarm.com
SUMMARY:Holiday Farmhouse Tea\, 12/15\, 1:30 pm
DESCRIPTION:As part of this year’s holiday celebrations\, we’re happy to offer a Holiday Farmhouse Tea.  \n\n\n\nCome delight in our beautiful manor house and summer kitchen all decked out for the season! After tea\, take a stroll through our extensive grounds and enjoy “the holly and the ivy”…and other natural wonders! \n\n\n\nOur Teddy Bear Tea is a smaller version of our holiday Farmhouse Tea for those under 12. \n\n\n\nAll bookings secure your table for an hour and a half. \n\n\n\n\n\n\n\n\n\nMenu: \n\n\n\n\nScones with cream and jam\n\n\n\nOrange Blossom\n\n\n\nSweet Potato Biscuits with Ham\n\n\n\nHoliday Cookies\n\n\n\nLemon Bars\n\n\n\nPot of Tea\n\n\n\n\n \n\n\n\n\nIf you have allergies or dietary restrictions\, please let us know here.
URL:https://terrehautefarm.com/event/holiday-farmhouse-tea-12-15-2024-130-pm/
LOCATION:Terre Haute Farm\, 2565 Huguenot Springs Rd.\, Midlothian\, VA\, United States
CATEGORIES:Afternoon Tea
ATTACH;FMTTYPE=image/png:https://terrehautefarm.com/wp-content/uploads/2024/10/3.png
END:VEVENT
BEGIN:VEVENT
DTSTART;TZID=America/New_York:20241215T130000
DTEND;TZID=America/New_York:20241215T143000
DTSTAMP:20260422T205503
CREATED:20241029T165150Z
LAST-MODIFIED:20241105T232721Z
UID:10000019-1734267600-1734273000@terrehautefarm.com
SUMMARY:Holiday Farmhouse Tea\, 12/15\, 1:00 pm
DESCRIPTION:As part of this year’s holiday celebrations\, we’re happy to offer a Holiday Farmhouse Tea.  \n\n\n\nCome delight in our beautiful manor house and summer kitchen all decked out for the season! After tea\, take a stroll through our extensive grounds and enjoy “the holly and the ivy”…and other natural wonders! \n\n\n\nOur Teddy Bear Tea is a smaller version of our Holiday Farmhouse Tea for those under 12. \n\n\n\nAll bookings secure your table for an hour and a half. \n\n\n\n\n\n\n\n\n\nMenu: \n\n\n\n\nScones with cream and jam\n\n\n\nOrange Blossom\n\n\n\nSweet Potato Biscuits with Ham\n\n\n\nHoliday Cookies\n\n\n\nLemon Bars\n\n\n\nPot of Tea\n\n\n\n\n \n\n\n\n\nIf you have allergies or dietary restrictions\, please let us know here.
URL:https://terrehautefarm.com/event/holiday-farmhouse-tea-12-15-2024-100-pm/
LOCATION:Terre Haute Farm\, 2565 Huguenot Springs Rd.\, Midlothian\, VA\, United States
CATEGORIES:Afternoon Tea
ATTACH;FMTTYPE=image/png:https://terrehautefarm.com/wp-content/uploads/2024/10/3.png
END:VEVENT
END:VCALENDAR