BEGIN:VCALENDAR
VERSION:2.0
PRODID:-// - ECPv6.15.20//NONSGML v1.0//EN
CALSCALE:GREGORIAN
METHOD:PUBLISH
X-ORIGINAL-URL:https://terrehautefarm.com
X-WR-CALDESC:Events for 
REFRESH-INTERVAL;VALUE=DURATION:PT1H
X-Robots-Tag:noindex
X-PUBLISHED-TTL:PT1H
BEGIN:VTIMEZONE
TZID:America/New_York
BEGIN:DAYLIGHT
TZOFFSETFROM:-0500
TZOFFSETTO:-0400
TZNAME:EDT
DTSTART:20240310T070000
END:DAYLIGHT
BEGIN:STANDARD
TZOFFSETFROM:-0400
TZOFFSETTO:-0500
TZNAME:EST
DTSTART:20241103T060000
END:STANDARD
BEGIN:DAYLIGHT
TZOFFSETFROM:-0500
TZOFFSETTO:-0400
TZNAME:EDT
DTSTART:20250309T070000
END:DAYLIGHT
BEGIN:STANDARD
TZOFFSETFROM:-0400
TZOFFSETTO:-0500
TZNAME:EST
DTSTART:20251102T060000
END:STANDARD
BEGIN:DAYLIGHT
TZOFFSETFROM:-0500
TZOFFSETTO:-0400
TZNAME:EDT
DTSTART:20260308T070000
END:DAYLIGHT
BEGIN:STANDARD
TZOFFSETFROM:-0400
TZOFFSETTO:-0500
TZNAME:EST
DTSTART:20261101T060000
END:STANDARD
END:VTIMEZONE
BEGIN:VEVENT
DTSTART;TZID=America/New_York:20251214T130000
DTEND;TZID=America/New_York:20251214T143000
DTSTAMP:20260422T122957
CREATED:20251118T174427Z
LAST-MODIFIED:20251118T174433Z
UID:10000128-1765717200-1765722600@terrehautefarm.com
SUMMARY:Holiday Tea - 12/14\, 1 pm
DESCRIPTION:Join us for a special Holiday Tea featuring your favorite seasonal delights!
URL:https://terrehautefarm.com/event/holiday-tea-12-14-1-pm/
LOCATION:Terre Haute Farm\, 2565 Huguenot Springs Rd.\, Midlothian\, VA\, United States
CATEGORIES:Afternoon Tea
ATTACH;FMTTYPE=image/png:https://terrehautefarm.com/wp-content/uploads/2024/10/3.png
END:VEVENT
BEGIN:VEVENT
DTSTART;TZID=America/New_York:20251214T133000
DTEND;TZID=America/New_York:20251214T150000
DTSTAMP:20260422T122957
CREATED:20251118T175924Z
LAST-MODIFIED:20251127T005440Z
UID:10000129-1765719000-1765724400@terrehautefarm.com
SUMMARY:Holiday Tea - 12/14\, 1:30 pm
DESCRIPTION:Join us for a special Holiday Tea featuring your favorite seasonal delights!
URL:https://terrehautefarm.com/event/holiday-tea-12-14-130-pm-2/
LOCATION:Terre Haute Farm\, 2565 Huguenot Springs Rd.\, Midlothian\, VA\, United States
CATEGORIES:Afternoon Tea
ATTACH;FMTTYPE=image/png:https://terrehautefarm.com/wp-content/uploads/2024/10/3.png
END:VEVENT
BEGIN:VEVENT
DTSTART;TZID=America/New_York:20251214T140000
DTEND;TZID=America/New_York:20251214T153000
DTSTAMP:20260422T122957
CREATED:20251118T175441Z
LAST-MODIFIED:20251118T180151Z
UID:10000130-1765720800-1765726200@terrehautefarm.com
SUMMARY:Holiday Tea - 12/14\, 2 pm
DESCRIPTION:Join us for a special Holiday Tea featuring your favorite seasonal delights!
URL:https://terrehautefarm.com/event/holiday-tea-12-14-130-pm/
LOCATION:Terre Haute Farm\, 2565 Huguenot Springs Rd.\, Midlothian\, VA\, United States
CATEGORIES:Afternoon Tea
ATTACH;FMTTYPE=image/png:https://terrehautefarm.com/wp-content/uploads/2024/10/3.png
END:VEVENT
BEGIN:VEVENT
DTSTART;TZID=America/New_York:20251214T143000
DTEND;TZID=America/New_York:20251214T160000
DTSTAMP:20260422T122957
CREATED:20251118T180354Z
LAST-MODIFIED:20251126T150030Z
UID:10000131-1765722600-1765728000@terrehautefarm.com
SUMMARY:Holiday Tea - 12/14\, 2:30 pm
DESCRIPTION:Join us for a special Holiday Tea featuring your favorite seasonal delights!
URL:https://terrehautefarm.com/event/holiday-tea-12-14-230-pm/
LOCATION:Terre Haute Farm\, 2565 Huguenot Springs Rd.\, Midlothian\, VA\, United States
CATEGORIES:Afternoon Tea
ATTACH;FMTTYPE=image/png:https://terrehautefarm.com/wp-content/uploads/2024/10/3.png
END:VEVENT
BEGIN:VEVENT
DTSTART;TZID=America/New_York:20251214T150000
DTEND;TZID=America/New_York:20251214T163000
DTSTAMP:20260422T122957
CREATED:20251118T180624Z
LAST-MODIFIED:20251118T180631Z
UID:10000132-1765724400-1765729800@terrehautefarm.com
SUMMARY:Holiday Tea - 12/14\, 3 pm
DESCRIPTION:Join us for a special Holiday Tea featuring your favorite seasonal delights!
URL:https://terrehautefarm.com/event/holiday-tea-12-14-3-pm/
LOCATION:Terre Haute Farm\, 2565 Huguenot Springs Rd.\, Midlothian\, VA\, United States
CATEGORIES:Afternoon Tea
ATTACH;FMTTYPE=image/png:https://terrehautefarm.com/wp-content/uploads/2024/10/3.png
END:VEVENT
END:VCALENDAR