BEGIN:VCALENDAR
VERSION:2.0
PRODID:-// - ECPv6.15.20//NONSGML v1.0//EN
CALSCALE:GREGORIAN
METHOD:PUBLISH
X-ORIGINAL-URL:https://terrehautefarm.com
X-WR-CALDESC:Events for 
REFRESH-INTERVAL;VALUE=DURATION:PT1H
X-Robots-Tag:noindex
X-PUBLISHED-TTL:PT1H
BEGIN:VTIMEZONE
TZID:America/New_York
BEGIN:DAYLIGHT
TZOFFSETFROM:-0500
TZOFFSETTO:-0400
TZNAME:EDT
DTSTART:20240310T070000
END:DAYLIGHT
BEGIN:STANDARD
TZOFFSETFROM:-0400
TZOFFSETTO:-0500
TZNAME:EST
DTSTART:20241103T060000
END:STANDARD
BEGIN:DAYLIGHT
TZOFFSETFROM:-0500
TZOFFSETTO:-0400
TZNAME:EDT
DTSTART:20250309T070000
END:DAYLIGHT
BEGIN:STANDARD
TZOFFSETFROM:-0400
TZOFFSETTO:-0500
TZNAME:EST
DTSTART:20251102T060000
END:STANDARD
BEGIN:DAYLIGHT
TZOFFSETFROM:-0500
TZOFFSETTO:-0400
TZNAME:EDT
DTSTART:20260308T070000
END:DAYLIGHT
BEGIN:STANDARD
TZOFFSETFROM:-0400
TZOFFSETTO:-0500
TZNAME:EST
DTSTART:20261101T060000
END:STANDARD
END:VTIMEZONE
BEGIN:VEVENT
DTSTART;TZID=America/New_York:20251019T130000
DTEND;TZID=America/New_York:20251019T143000
DTSTAMP:20260422T194956
CREATED:20250902T154513Z
LAST-MODIFIED:20251015T141114Z
UID:10000115-1760878800-1760884200@terrehautefarm.com
SUMMARY:Autumn Harvest Tea- 10/19\, 1 pm
DESCRIPTION:Join us for a special Autumn Tea featuring your favorite seasonal delights!
URL:https://terrehautefarm.com/event/autumn-harvest-tea-10-19-1-pm/
LOCATION:Terre Haute Farm\, 2565 Huguenot Springs Rd.\, Midlothian\, VA\, United States
CATEGORIES:Afternoon Tea
END:VEVENT
BEGIN:VEVENT
DTSTART;TZID=America/New_York:20251019T133000
DTEND;TZID=America/New_York:20251019T150000
DTSTAMP:20260422T194956
CREATED:20250902T205430Z
LAST-MODIFIED:20251015T141236Z
UID:10000116-1760880600-1760886000@terrehautefarm.com
SUMMARY:Autumn Harvest Tea- 10/19\, 1:30 pm
DESCRIPTION:Join us for a special Autumn Tea featuring your favorite seasonal delights!
URL:https://terrehautefarm.com/event/autumn-harvest-tea-10-19-130-pm/
LOCATION:Terre Haute Farm\, 2565 Huguenot Springs Rd.\, Midlothian\, VA\, United States
CATEGORIES:Afternoon Tea
END:VEVENT
BEGIN:VEVENT
DTSTART;TZID=America/New_York:20251019T140000
DTEND;TZID=America/New_York:20251019T153000
DTSTAMP:20260422T194956
CREATED:20250902T205619Z
LAST-MODIFIED:20251015T141454Z
UID:10000117-1760882400-1760887800@terrehautefarm.com
SUMMARY:Autumn Harvest Tea- 10/19\, 2 pm
DESCRIPTION:Join us for a special Autumn Tea featuring your favorite seasonal delights!
URL:https://terrehautefarm.com/event/autumn-harvest-tea-10-19-2-pm/
LOCATION:Terre Haute Farm\, 2565 Huguenot Springs Rd.\, Midlothian\, VA\, United States
CATEGORIES:Afternoon Tea
END:VEVENT
BEGIN:VEVENT
DTSTART;TZID=America/New_York:20251019T143000
DTEND;TZID=America/New_York:20251019T160000
DTSTAMP:20260422T194956
CREATED:20250902T205758Z
LAST-MODIFIED:20251015T141635Z
UID:10000118-1760884200-1760889600@terrehautefarm.com
SUMMARY:Autumn Harvest Tea- 10/19\, 2:30 pm
DESCRIPTION:Join us for a special Autumn Tea featuring your favorite seasonal delights!
URL:https://terrehautefarm.com/event/autumn-harvest-tea-10-19-230-pm/
LOCATION:Terre Haute Farm\, 2565 Huguenot Springs Rd.\, Midlothian\, VA\, United States
CATEGORIES:Afternoon Tea
END:VEVENT
END:VCALENDAR