BEGIN:VCALENDAR
VERSION:2.0
PRODID:-// - ECPv6.15.20//NONSGML v1.0//EN
CALSCALE:GREGORIAN
METHOD:PUBLISH
X-ORIGINAL-URL:https://terrehautefarm.com
X-WR-CALDESC:Events for 
REFRESH-INTERVAL;VALUE=DURATION:PT1H
X-Robots-Tag:noindex
X-PUBLISHED-TTL:PT1H
BEGIN:VTIMEZONE
TZID:America/New_York
BEGIN:DAYLIGHT
TZOFFSETFROM:-0500
TZOFFSETTO:-0400
TZNAME:EDT
DTSTART:20240310T070000
END:DAYLIGHT
BEGIN:STANDARD
TZOFFSETFROM:-0400
TZOFFSETTO:-0500
TZNAME:EST
DTSTART:20241103T060000
END:STANDARD
BEGIN:DAYLIGHT
TZOFFSETFROM:-0500
TZOFFSETTO:-0400
TZNAME:EDT
DTSTART:20250309T070000
END:DAYLIGHT
BEGIN:STANDARD
TZOFFSETFROM:-0400
TZOFFSETTO:-0500
TZNAME:EST
DTSTART:20251102T060000
END:STANDARD
BEGIN:DAYLIGHT
TZOFFSETFROM:-0500
TZOFFSETTO:-0400
TZNAME:EDT
DTSTART:20260308T070000
END:DAYLIGHT
BEGIN:STANDARD
TZOFFSETFROM:-0400
TZOFFSETTO:-0500
TZNAME:EST
DTSTART:20261101T060000
END:STANDARD
END:VTIMEZONE
BEGIN:VEVENT
DTSTART;TZID=America/New_York:20251012T130000
DTEND;TZID=America/New_York:20251012T143000
DTSTAMP:20260422T195217
CREATED:20250901T153115Z
LAST-MODIFIED:20250901T153118Z
UID:10000100-1760274000-1760279400@terrehautefarm.com
SUMMARY:Autumn Harvest Tea- 10/12\, 1 pm
DESCRIPTION:Join us for a special Autumn Tea featuring your favorite seasonal delights!
URL:https://terrehautefarm.com/event/autumn-harvest-tea-10-12-1-pm/
LOCATION:Terre Haute Farm\, 2565 Huguenot Springs Rd.\, Midlothian\, VA\, United States
CATEGORIES:Afternoon Tea
END:VEVENT
BEGIN:VEVENT
DTSTART;TZID=America/New_York:20251012T133000
DTEND;TZID=America/New_York:20251012T150000
DTSTAMP:20260422T195217
CREATED:20250901T153319Z
LAST-MODIFIED:20250901T153322Z
UID:10000101-1760275800-1760281200@terrehautefarm.com
SUMMARY:Autumn Harvest Tea- 10/12\, 1:30 pm
DESCRIPTION:Join us for a special Autumn Tea featuring your favorite seasonal delights!
URL:https://terrehautefarm.com/event/autumn-harvest-tea-10-12-130-pm/
LOCATION:Terre Haute Farm\, 2565 Huguenot Springs Rd.\, Midlothian\, VA\, United States
CATEGORIES:Afternoon Tea
END:VEVENT
BEGIN:VEVENT
DTSTART;TZID=America/New_York:20251012T140000
DTEND;TZID=America/New_York:20251012T153000
DTSTAMP:20260422T195217
CREATED:20250901T153732Z
LAST-MODIFIED:20250901T153735Z
UID:10000102-1760277600-1760283000@terrehautefarm.com
SUMMARY:Autumn Harvest Tea- 10/12\, 2 pm
DESCRIPTION:Join us for a special Autumn Tea featuring your favorite seasonal delights!
URL:https://terrehautefarm.com/event/autumn-harvest-tea-10-12-2-pm/
LOCATION:Terre Haute Farm\, 2565 Huguenot Springs Rd.\, Midlothian\, VA\, United States
CATEGORIES:Afternoon Tea
END:VEVENT
BEGIN:VEVENT
DTSTART;TZID=America/New_York:20251012T143000
DTEND;TZID=America/New_York:20251012T160000
DTSTAMP:20260422T195217
CREATED:20250901T153952Z
LAST-MODIFIED:20250901T154127Z
UID:10000103-1760279400-1760284800@terrehautefarm.com
SUMMARY:Autumn Harvest Tea- 10/12\, 2:30 pm
DESCRIPTION:Join us for a special Autumn Tea featuring your favorite seasonal delights!
URL:https://terrehautefarm.com/event/autumn-harvest-tea-10-12-230-pm/
LOCATION:Terre Haute Farm\, 2565 Huguenot Springs Rd.\, Midlothian\, VA\, United States
CATEGORIES:Afternoon Tea
END:VEVENT
BEGIN:VEVENT
DTSTART;TZID=America/New_York:20251012T150000
DTEND;TZID=America/New_York:20251012T163000
DTSTAMP:20260422T195217
CREATED:20250901T154433Z
LAST-MODIFIED:20250901T154435Z
UID:10000104-1760281200-1760286600@terrehautefarm.com
SUMMARY:Autumn Harvest Tea- 10/12\, 3 pm
DESCRIPTION:Join us for a special Autumn Tea featuring your favorite seasonal delights!
URL:https://terrehautefarm.com/event/autumn-harvest-tea-10-12-3-pm/
LOCATION:Terre Haute Farm\, 2565 Huguenot Springs Rd.\, Midlothian\, VA\, United States
CATEGORIES:Afternoon Tea
END:VEVENT
END:VCALENDAR