BEGIN:VCALENDAR
VERSION:2.0
PRODID:-// - ECPv6.15.20//NONSGML v1.0//EN
CALSCALE:GREGORIAN
METHOD:PUBLISH
X-ORIGINAL-URL:https://terrehautefarm.com
X-WR-CALDESC:Events for 
REFRESH-INTERVAL;VALUE=DURATION:PT1H
X-Robots-Tag:noindex
X-PUBLISHED-TTL:PT1H
BEGIN:VTIMEZONE
TZID:America/New_York
BEGIN:DAYLIGHT
TZOFFSETFROM:-0500
TZOFFSETTO:-0400
TZNAME:EDT
DTSTART:20240310T070000
END:DAYLIGHT
BEGIN:STANDARD
TZOFFSETFROM:-0400
TZOFFSETTO:-0500
TZNAME:EST
DTSTART:20241103T060000
END:STANDARD
BEGIN:DAYLIGHT
TZOFFSETFROM:-0500
TZOFFSETTO:-0400
TZNAME:EDT
DTSTART:20250309T070000
END:DAYLIGHT
BEGIN:STANDARD
TZOFFSETFROM:-0400
TZOFFSETTO:-0500
TZNAME:EST
DTSTART:20251102T060000
END:STANDARD
BEGIN:DAYLIGHT
TZOFFSETFROM:-0500
TZOFFSETTO:-0400
TZNAME:EDT
DTSTART:20260308T070000
END:DAYLIGHT
BEGIN:STANDARD
TZOFFSETFROM:-0400
TZOFFSETTO:-0500
TZNAME:EST
DTSTART:20261101T060000
END:STANDARD
END:VTIMEZONE
BEGIN:VEVENT
DTSTART;TZID=America/New_York:20251011T130000
DTEND;TZID=America/New_York:20251011T143000
DTSTAMP:20260422T195217
CREATED:20250901T151408Z
LAST-MODIFIED:20250901T152054Z
UID:10000095-1760187600-1760193000@terrehautefarm.com
SUMMARY:Autumn Harvest Tea- 10/11\, 1:00 pm
DESCRIPTION:Join us for a special Autumn Tea featuring your favorite seasonal delights!
URL:https://terrehautefarm.com/event/autumn-harvest-tea-10-11-100-pm/
LOCATION:Terre Haute Farm\, 2565 Huguenot Springs Rd.\, Midlothian\, VA\, United States
CATEGORIES:Afternoon Tea
END:VEVENT
BEGIN:VEVENT
DTSTART;TZID=America/New_York:20251011T133000
DTEND;TZID=America/New_York:20251011T150000
DTSTAMP:20260422T195217
CREATED:20250901T151711Z
LAST-MODIFIED:20250901T152243Z
UID:10000096-1760189400-1760194800@terrehautefarm.com
SUMMARY:Autumn Harvest Tea- 10/11\, 1:30 pm
DESCRIPTION:Join us for a special Autumn Tea featuring your favorite seasonal delights!
URL:https://terrehautefarm.com/event/autumn-harvest-tea-10-11-130-pm/
LOCATION:Terre Haute Farm\, 2565 Huguenot Springs Rd.\, Midlothian\, VA\, United States
CATEGORIES:Afternoon Tea
END:VEVENT
BEGIN:VEVENT
DTSTART;TZID=America/New_York:20251011T140000
DTEND;TZID=America/New_York:20251011T153000
DTSTAMP:20260422T195217
CREATED:20250901T151930Z
LAST-MODIFIED:20250901T152438Z
UID:10000097-1760191200-1760196600@terrehautefarm.com
SUMMARY:Autumn Harvest Tea- 10/11\, 2 pm
DESCRIPTION:Join us for a special Autumn Tea featuring your favorite seasonal delights!
URL:https://terrehautefarm.com/event/autumn-harvest-tea-10-11-2-pm/
LOCATION:Terre Haute Farm\, 2565 Huguenot Springs Rd.\, Midlothian\, VA\, United States
CATEGORIES:Afternoon Tea
END:VEVENT
BEGIN:VEVENT
DTSTART;TZID=America/New_York:20251011T143000
DTEND;TZID=America/New_York:20251011T160000
DTSTAMP:20260422T195217
CREATED:20250901T152621Z
LAST-MODIFIED:20250901T152624Z
UID:10000098-1760193000-1760198400@terrehautefarm.com
SUMMARY:Autumn Harvest Tea- 10/11\, 2:30 pm
DESCRIPTION:Join us for a special Autumn Tea featuring your favorite seasonal delights!
URL:https://terrehautefarm.com/event/autumn-harvest-tea-10-11-230-pm/
LOCATION:Terre Haute Farm\, 2565 Huguenot Springs Rd.\, Midlothian\, VA\, United States
CATEGORIES:Afternoon Tea
END:VEVENT
BEGIN:VEVENT
DTSTART;TZID=America/New_York:20251011T150000
DTEND;TZID=America/New_York:20251011T163000
DTSTAMP:20260422T195217
CREATED:20250901T152917Z
LAST-MODIFIED:20250901T152919Z
UID:10000099-1760194800-1760200200@terrehautefarm.com
SUMMARY:Autumn Harvest Tea- 10/11\, 3 pm
DESCRIPTION:Join us for a special Autumn Tea featuring your favorite seasonal delights!
URL:https://terrehautefarm.com/event/autumn-harvest-tea-10-11-3-pm/
LOCATION:Terre Haute Farm\, 2565 Huguenot Springs Rd.\, Midlothian\, VA\, United States
CATEGORIES:Afternoon Tea
END:VEVENT
END:VCALENDAR